BEGIN:VCALENDAR
VERSION:2.0
PRODID:-//Maurice Car’rie Vineyard &amp; Winery - ECPv6.15.20//NONSGML v1.0//EN
CALSCALE:GREGORIAN
METHOD:PUBLISH
X-ORIGINAL-URL:https://ultimatevineyards.com
X-WR-CALDESC:Events for Maurice Car’rie Vineyard &amp; Winery
REFRESH-INTERVAL;VALUE=DURATION:PT1H
X-Robots-Tag:noindex
X-PUBLISHED-TTL:PT1H
BEGIN:VTIMEZONE
TZID:America/Los_Angeles
BEGIN:DAYLIGHT
TZOFFSETFROM:-0800
TZOFFSETTO:-0700
TZNAME:PDT
DTSTART:20240310T100000
END:DAYLIGHT
BEGIN:STANDARD
TZOFFSETFROM:-0700
TZOFFSETTO:-0800
TZNAME:PST
DTSTART:20241103T090000
END:STANDARD
BEGIN:DAYLIGHT
TZOFFSETFROM:-0800
TZOFFSETTO:-0700
TZNAME:PDT
DTSTART:20250309T100000
END:DAYLIGHT
BEGIN:STANDARD
TZOFFSETFROM:-0700
TZOFFSETTO:-0800
TZNAME:PST
DTSTART:20251102T090000
END:STANDARD
BEGIN:DAYLIGHT
TZOFFSETFROM:-0800
TZOFFSETTO:-0700
TZNAME:PDT
DTSTART:20260308T100000
END:DAYLIGHT
BEGIN:STANDARD
TZOFFSETFROM:-0700
TZOFFSETTO:-0800
TZNAME:PST
DTSTART:20261101T090000
END:STANDARD
END:VTIMEZONE
BEGIN:VEVENT
DTSTART;TZID=America/Los_Angeles:20251214T120000
DTEND;TZID=America/Los_Angeles:20251214T160000
DTSTAMP:20260421T192252
CREATED:20250708T191425Z
LAST-MODIFIED:20250708T191425Z
UID:14374-1765713600-1765728000@ultimatevineyards.com
SUMMARY:Robert Rauch Solo Performance
DESCRIPTION:December 14\, 2025 \nJoin us for a solo performance by Robert Rauch \nSunday 12:00 pm – 4:00 pm
URL:https://ultimatevineyards.com/event/robert-rauch-solo-performance-2/
LOCATION:Ultimate Vineyards @ Maurice Carrie Winery\, 34225 Rancho California Rd\, Temecula\, CA\, 92591\, United States
CATEGORIES:Free,Live Music
ATTACH;FMTTYPE=image/png:https://ultimatevineyards.com/wp-content/uploads/2025/07/Robert-Rauch-11.png
END:VEVENT
END:VCALENDAR