BEGIN:VCALENDAR
VERSION:2.0
PRODID:-//Maurice Car’rie Vineyard &amp; Winery - ECPv6.15.20//NONSGML v1.0//EN
CALSCALE:GREGORIAN
METHOD:PUBLISH
X-WR-CALNAME:Maurice Car’rie Vineyard &amp; Winery
X-ORIGINAL-URL:https://ultimatevineyards.com
X-WR-CALDESC:Events for Maurice Car’rie Vineyard &amp; Winery
REFRESH-INTERVAL;VALUE=DURATION:PT1H
X-Robots-Tag:noindex
X-PUBLISHED-TTL:PT1H
BEGIN:VTIMEZONE
TZID:America/Los_Angeles
BEGIN:DAYLIGHT
TZOFFSETFROM:-0800
TZOFFSETTO:-0700
TZNAME:PDT
DTSTART:20250309T100000
END:DAYLIGHT
BEGIN:STANDARD
TZOFFSETFROM:-0700
TZOFFSETTO:-0800
TZNAME:PST
DTSTART:20251102T090000
END:STANDARD
BEGIN:DAYLIGHT
TZOFFSETFROM:-0800
TZOFFSETTO:-0700
TZNAME:PDT
DTSTART:20260308T100000
END:DAYLIGHT
BEGIN:STANDARD
TZOFFSETFROM:-0700
TZOFFSETTO:-0800
TZNAME:PST
DTSTART:20261101T090000
END:STANDARD
BEGIN:DAYLIGHT
TZOFFSETFROM:-0800
TZOFFSETTO:-0700
TZNAME:PDT
DTSTART:20270314T100000
END:DAYLIGHT
BEGIN:STANDARD
TZOFFSETFROM:-0700
TZOFFSETTO:-0800
TZNAME:PST
DTSTART:20271107T090000
END:STANDARD
END:VTIMEZONE
BEGIN:VEVENT
DTSTART;TZID=America/Los_Angeles:20260214T133000
DTEND;TZID=America/Los_Angeles:20260214T173000
DTSTAMP:20260421T141808
CREATED:20260108T185600Z
LAST-MODIFIED:20260108T190639Z
UID:15087-1771075800-1771090200@ultimatevineyards.com
SUMMARY:DANIEL ALAN
DESCRIPTION:Saturday\, February 14\, 2026\, 1:30 to 5:30 pm \nJoin us for live country music on the patio! \n 
URL:https://ultimatevineyards.com/event/daniel-alan/
LOCATION:Ultimate Vineyards @ Maurice Carrie Winery\, 34225 Rancho California Rd\, Temecula\, CA\, 92591\, United States
CATEGORIES:Live Music
ATTACH;FMTTYPE=image/jpeg:https://ultimatevineyards.com/wp-content/uploads/2025/12/Rose-Line-Band-Instagram-Post-45.jpg
END:VEVENT
END:VCALENDAR