BEGIN:VCALENDAR
VERSION:2.0
PRODID:-//Maurice Car’rie Vineyard &amp; Winery - ECPv6.15.20//NONSGML v1.0//EN
CALSCALE:GREGORIAN
METHOD:PUBLISH
X-WR-CALNAME:Maurice Car’rie Vineyard &amp; Winery
X-ORIGINAL-URL:https://ultimatevineyards.com
X-WR-CALDESC:Events for Maurice Car’rie Vineyard &amp; Winery
REFRESH-INTERVAL;VALUE=DURATION:PT1H
X-Robots-Tag:noindex
X-PUBLISHED-TTL:PT1H
BEGIN:VTIMEZONE
TZID:America/Los_Angeles
BEGIN:DAYLIGHT
TZOFFSETFROM:-0800
TZOFFSETTO:-0700
TZNAME:PDT
DTSTART:20250309T100000
END:DAYLIGHT
BEGIN:STANDARD
TZOFFSETFROM:-0700
TZOFFSETTO:-0800
TZNAME:PST
DTSTART:20251102T090000
END:STANDARD
BEGIN:DAYLIGHT
TZOFFSETFROM:-0800
TZOFFSETTO:-0700
TZNAME:PDT
DTSTART:20260308T100000
END:DAYLIGHT
BEGIN:STANDARD
TZOFFSETFROM:-0700
TZOFFSETTO:-0800
TZNAME:PST
DTSTART:20261101T090000
END:STANDARD
BEGIN:DAYLIGHT
TZOFFSETFROM:-0800
TZOFFSETTO:-0700
TZNAME:PDT
DTSTART:20270314T100000
END:DAYLIGHT
BEGIN:STANDARD
TZOFFSETFROM:-0700
TZOFFSETTO:-0800
TZNAME:PST
DTSTART:20271107T090000
END:STANDARD
END:VTIMEZONE
BEGIN:VEVENT
DTSTART;TZID=America/Los_Angeles:20260301T120000
DTEND;TZID=America/Los_Angeles:20260301T160000
DTSTAMP:20260420T205111
CREATED:20260115T174901Z
LAST-MODIFIED:20260115T174901Z
UID:15132-1772366400-1772380800@ultimatevineyards.com
SUMMARY:RENE LATIN SOUL
DESCRIPTION:Spice up your Sunday with Salsa\, Latin Jazz Instrumental\, Bachata\, Reggaeton\, Merengue\, Ballenato\, and more! \nJoin us for live music with Rene Latin Soul from 12-4pm! \n 
URL:https://ultimatevineyards.com/event/rene-latin-soul-7/
LOCATION:Ultimate Vineyards @ Maurice Carrie Winery\, 34225 Rancho California Rd\, Temecula\, CA\, 92591\, United States
CATEGORIES:Free,Live Music
ATTACH;FMTTYPE=image/png:https://ultimatevineyards.com/wp-content/uploads/2025/12/Maurice-Carrie-Winery-2.png
END:VEVENT
BEGIN:VEVENT
DTSTART;TZID=America/Los_Angeles:20260306T160000
DTEND;TZID=America/Los_Angeles:20260306T200000
DTSTAMP:20260420T205111
CREATED:20260115T174532Z
LAST-MODIFIED:20260115T174532Z
UID:15133-1772812800-1772827200@ultimatevineyards.com
SUMMARY:Friday Night Live Music
DESCRIPTION:Fridays from 4:00 to 8:00 pm\, immerse yourself in the vibrant sounds of Rene Latin Soul as you sway and dance the night away. Indulge in delicious food and wine while soaking up the casual and welcoming atmosphere that makes our winery a beloved destination. Our bistro and tasting room will be open until 8:00 pm.
URL:https://ultimatevineyards.com/event/friday-night-live-music-29/
LOCATION:Ultimate Vineyards @ Maurice Carrie Winery\, 34225 Rancho California Rd\, Temecula\, CA\, 92591\, United States
CATEGORIES:Free,Live Music
ATTACH;FMTTYPE=image/png:https://ultimatevineyards.com/wp-content/uploads/2025/10/Friday-Night-Latin-1.png
END:VEVENT
BEGIN:VEVENT
DTSTART;TZID=America/Los_Angeles:20260307T133000
DTEND;TZID=America/Los_Angeles:20260307T173000
DTSTAMP:20260420T205111
CREATED:20260203T234224Z
LAST-MODIFIED:20260305T182707Z
UID:15215-1772890200-1772904600@ultimatevineyards.com
SUMMARY:WTFUNK Band
DESCRIPTION:Enjoy live music by the WTFunk Band!
URL:https://ultimatevineyards.com/event/wtfunk-band-3/
LOCATION:Ultimate Vineyards @ Maurice Carrie Winery\, 34225 Rancho California Rd\, Temecula\, CA\, 92591\, United States
CATEGORIES:Free,Live Music
ATTACH;FMTTYPE=image/png:https://ultimatevineyards.com/wp-content/uploads/2026/02/WTFunk-Band.png
END:VEVENT
BEGIN:VEVENT
DTSTART;TZID=America/Los_Angeles:20260308T120000
DTEND;TZID=America/Los_Angeles:20260308T160000
DTSTAMP:20260420T205111
CREATED:20260115T180849Z
LAST-MODIFIED:20260305T182528Z
UID:15137-1772971200-1772985600@ultimatevineyards.com
SUMMARY:BENNY WEAGRATT
DESCRIPTION:Join us on the patio from 12:00 to 4:00 pm for live music with Benny Weagratt!
URL:https://ultimatevineyards.com/event/benny-weagratt-2/
LOCATION:Ultimate Vineyards @ Maurice Carrie Winery\, 34225 Rancho California Rd\, Temecula\, CA\, 92591\, United States
CATEGORIES:Free,Live Music
ATTACH;FMTTYPE=image/png:https://ultimatevineyards.com/wp-content/uploads/2026/01/Benny-Weagratt.png
END:VEVENT
BEGIN:VEVENT
DTSTART;TZID=America/Los_Angeles:20260313T160000
DTEND;TZID=America/Los_Angeles:20260313T200000
DTSTAMP:20260420T205111
CREATED:20260115T181119Z
LAST-MODIFIED:20260115T181119Z
UID:15147-1773417600-1773432000@ultimatevineyards.com
SUMMARY:Friday Night Live Music
DESCRIPTION:Fridays from 4:00 to 8:00 pm\, immerse yourself in the vibrant sounds of Rene Latin Soul as you sway and dance the night away. Indulge in delicious food and wine while soaking up the casual and welcoming atmosphere that makes our winery a beloved destination. Our bistro and tasting room will be open until 8:00 pm.
URL:https://ultimatevineyards.com/event/friday-night-live-music-30/
LOCATION:Ultimate Vineyards @ Maurice Carrie Winery\, 34225 Rancho California Rd\, Temecula\, CA\, 92591\, United States
CATEGORIES:Free,Live Music
ATTACH;FMTTYPE=image/png:https://ultimatevineyards.com/wp-content/uploads/2025/10/Friday-Night-Latin-1.png
END:VEVENT
BEGIN:VEVENT
DTSTART;TZID=America/Los_Angeles:20260314T140000
DTEND;TZID=America/Los_Angeles:20260314T180000
DTSTAMP:20260420T205111
CREATED:20260115T185130Z
LAST-MODIFIED:20260309T221658Z
UID:15183-1773496800-1773511200@ultimatevineyards.com
SUMMARY:ROBERT RAUCH BAND
DESCRIPTION:Join us on the patio for live music with The Robert Rauch Band! \nSaturday\, March 14th 2-6pm!
URL:https://ultimatevineyards.com/event/robert-rauch-2/
LOCATION:Ultimate Vineyards @ Maurice Carrie Winery\, 34225 Rancho California Rd\, Temecula\, CA\, 92591\, United States
CATEGORIES:Free,Live Music
ATTACH;FMTTYPE=image/png:https://ultimatevineyards.com/wp-content/uploads/2026/01/Robert-Rauch-12.png
END:VEVENT
BEGIN:VEVENT
DTSTART;TZID=America/Los_Angeles:20260315T120000
DTEND;TZID=America/Los_Angeles:20260315T160000
DTSTAMP:20260420T205111
CREATED:20260115T182815Z
LAST-MODIFIED:20260115T182815Z
UID:15176-1773576000-1773590400@ultimatevineyards.com
SUMMARY:KOLE WEBER
DESCRIPTION:Join us for live music by Kole Weber\, a versatile saxophonist who performs a wide range of styles\, including jazz\, pop\, R&B\, Latin\, and rock. \n  \n 
URL:https://ultimatevineyards.com/event/kole-weber-10/
LOCATION:Ultimate Vineyards @ Maurice Carrie Winery\, 34225 Rancho California Rd\, Temecula\, CA\, 92591\, United States
CATEGORIES:Free,Live Music
ATTACH;FMTTYPE=image/png:https://ultimatevineyards.com/wp-content/uploads/2025/02/KOLE-WEBER-2.png
END:VEVENT
BEGIN:VEVENT
DTSTART;TZID=America/Los_Angeles:20260320T160000
DTEND;TZID=America/Los_Angeles:20260320T200000
DTSTAMP:20260420T205111
CREATED:20260115T181153Z
LAST-MODIFIED:20260115T181153Z
UID:15154-1774022400-1774036800@ultimatevineyards.com
SUMMARY:Friday Night Live Music
DESCRIPTION:Fridays from 4:00 to 8:00 pm\, immerse yourself in the vibrant sounds of Rene Latin Soul as you sway and dance the night away. Indulge in delicious food and wine while soaking up the casual and welcoming atmosphere that makes our winery a beloved destination. Our bistro and tasting room will be open until 8:00 pm.
URL:https://ultimatevineyards.com/event/friday-night-live-music-31/
LOCATION:Ultimate Vineyards @ Maurice Carrie Winery\, 34225 Rancho California Rd\, Temecula\, CA\, 92591\, United States
CATEGORIES:Free,Live Music
ATTACH;FMTTYPE=image/png:https://ultimatevineyards.com/wp-content/uploads/2025/10/Friday-Night-Latin-1.png
END:VEVENT
BEGIN:VEVENT
DTSTART;TZID=America/Los_Angeles:20260322T120000
DTEND;TZID=America/Los_Angeles:20260322T160000
DTSTAMP:20260420T205111
CREATED:20260115T190007Z
LAST-MODIFIED:20260115T194354Z
UID:15186-1774180800-1774195200@ultimatevineyards.com
SUMMARY:SERGIO SNOW
DESCRIPTION:Enjoy live music by Sergio Snow from 12:00 to 4:00 pm.
URL:https://ultimatevineyards.com/event/sergio-snow-3/
LOCATION:Ultimate Vineyards @ Maurice Carrie Winery\, 34225 Rancho California Rd\, Temecula\, CA\, 92591\, United States
CATEGORIES:Free,Live Music
ATTACH;FMTTYPE=image/jpeg:https://ultimatevineyards.com/wp-content/uploads/2026/01/Sergio-Snow.jpg
END:VEVENT
BEGIN:VEVENT
DTSTART;TZID=America/Los_Angeles:20260327T160000
DTEND;TZID=America/Los_Angeles:20260327T200000
DTSTAMP:20260420T205111
CREATED:20260115T181255Z
LAST-MODIFIED:20260115T181255Z
UID:15156-1774627200-1774641600@ultimatevineyards.com
SUMMARY:Friday Night Live Music
DESCRIPTION:Fridays from 4:00 to 8:00 pm\, immerse yourself in the vibrant sounds of Rene Latin Soul as you sway and dance the night away. Indulge in delicious food and wine while soaking up the casual and welcoming atmosphere that makes our winery a beloved destination. Our bistro and tasting room will be open until 8:00 pm.
URL:https://ultimatevineyards.com/event/friday-night-live-music-32/
LOCATION:Ultimate Vineyards @ Maurice Carrie Winery\, 34225 Rancho California Rd\, Temecula\, CA\, 92591\, United States
CATEGORIES:Free,Live Music
ATTACH;FMTTYPE=image/png:https://ultimatevineyards.com/wp-content/uploads/2025/10/Friday-Night-Latin-1.png
END:VEVENT
BEGIN:VEVENT
DTSTART;TZID=America/Los_Angeles:20260328T140000
DTEND;TZID=America/Los_Angeles:20260328T180000
DTSTAMP:20260420T205111
CREATED:20260115T175609Z
LAST-MODIFIED:20260115T175609Z
UID:15142-1774706400-1774720800@ultimatevineyards.com
SUMMARY:DJ NOAH & KOLE WEBER
DESCRIPTION:DJ Noah + Kole Weber \nGather your friends\, savor delicious food and wine\, and dance to live DJ music! \n 
URL:https://ultimatevineyards.com/event/dj-noah-kole-weber-7/
LOCATION:Ultimate Vineyards @ Maurice Carrie Winery\, 34225 Rancho California Rd\, Temecula\, CA\, 92591\, United States
CATEGORIES:Free,Live Music
ATTACH;FMTTYPE=image/jpeg:https://ultimatevineyards.com/wp-content/uploads/2026/01/DJ-Noah.jpg
END:VEVENT
BEGIN:VEVENT
DTSTART;TZID=America/Los_Angeles:20260329T120000
DTEND;TZID=America/Los_Angeles:20260329T160000
DTSTAMP:20260420T205111
CREATED:20260115T183242Z
LAST-MODIFIED:20260115T183242Z
UID:15152-1774785600-1774800000@ultimatevineyards.com
SUMMARY:MATT BLOCKEY
DESCRIPTION:Enjoy live music by Matt Blockey from 12:00 to 4:00 pm.
URL:https://ultimatevineyards.com/event/matt-blockey-4/
LOCATION:Ultimate Vineyards @ Maurice Carrie Winery\, 34225 Rancho California Rd\, Temecula\, CA\, 92591\, United States
CATEGORIES:Free,Live Music
ATTACH;FMTTYPE=image/png:https://ultimatevineyards.com/wp-content/uploads/2026/01/Sunday-October-19th-1200-to-400-pm-4.png
END:VEVENT
END:VCALENDAR