BEGIN:VCALENDAR
VERSION:2.0
PRODID:-//Maurice Car’rie Vineyard &amp; Winery - ECPv6.15.20//NONSGML v1.0//EN
CALSCALE:GREGORIAN
METHOD:PUBLISH
X-WR-CALNAME:Maurice Car’rie Vineyard &amp; Winery
X-ORIGINAL-URL:https://ultimatevineyards.com
X-WR-CALDESC:Events for Maurice Car’rie Vineyard &amp; Winery
REFRESH-INTERVAL;VALUE=DURATION:PT1H
X-Robots-Tag:noindex
X-PUBLISHED-TTL:PT1H
BEGIN:VTIMEZONE
TZID:America/Los_Angeles
BEGIN:DAYLIGHT
TZOFFSETFROM:-0800
TZOFFSETTO:-0700
TZNAME:PDT
DTSTART:20240310T100000
END:DAYLIGHT
BEGIN:STANDARD
TZOFFSETFROM:-0700
TZOFFSETTO:-0800
TZNAME:PST
DTSTART:20241103T090000
END:STANDARD
BEGIN:DAYLIGHT
TZOFFSETFROM:-0800
TZOFFSETTO:-0700
TZNAME:PDT
DTSTART:20250309T100000
END:DAYLIGHT
BEGIN:STANDARD
TZOFFSETFROM:-0700
TZOFFSETTO:-0800
TZNAME:PST
DTSTART:20251102T090000
END:STANDARD
BEGIN:DAYLIGHT
TZOFFSETFROM:-0800
TZOFFSETTO:-0700
TZNAME:PDT
DTSTART:20260308T100000
END:DAYLIGHT
BEGIN:STANDARD
TZOFFSETFROM:-0700
TZOFFSETTO:-0800
TZNAME:PST
DTSTART:20261101T090000
END:STANDARD
END:VTIMEZONE
BEGIN:VEVENT
DTSTART;TZID=America/Los_Angeles:20251003T160000
DTEND;TZID=America/Los_Angeles:20251003T200000
DTSTAMP:20260421T082550
CREATED:20250806T222805Z
LAST-MODIFIED:20251003T172745Z
UID:14321-1759507200-1759521600@ultimatevineyards.com
SUMMARY:Friday Night Live Music
DESCRIPTION:Fridays from 4:00 to 8:00 pm\, immerse yourself in the vibrant sounds of Rene Latin Soul as you sway and dance the night away. Indulge in delicious food and wine while soaking up the casual and welcoming atmosphere that makes our winery a beloved destination. Our bistro and tasting room will be open until 8:00 pm.
URL:https://ultimatevineyards.com/event/friday-night-live-music-10/
LOCATION:Ultimate Vineyards @ Maurice Carrie Winery\, 34225 Rancho California Rd\, Temecula\, CA\, 92591\, United States
CATEGORIES:Free,Live Music
ATTACH;FMTTYPE=image/png:https://ultimatevineyards.com/wp-content/uploads/2025/08/LATIN-MUSIC-1.png
END:VEVENT
BEGIN:VEVENT
DTSTART;TZID=America/Los_Angeles:20251001T080000
DTEND;TZID=America/Los_Angeles:20251001T170000
DTSTAMP:20260421T082550
CREATED:20250723T212016Z
LAST-MODIFIED:20250723T212016Z
UID:14589-1759305600-1759338000@ultimatevineyards.com
SUMMARY:Wine Down Wednesdays
DESCRIPTION:Enjoy 50 % off select bottle purchases every Wednesday. \n 
URL:https://ultimatevineyards.com/event/wine-down-wednesdays-11/
LOCATION:Ultimate Vineyards @ Maurice Carrie Winery\, 34225 Rancho California Rd\, Temecula\, CA\, 92591\, United States
CATEGORIES:Weekly Specials
ATTACH;FMTTYPE=image/png:https://ultimatevineyards.com/wp-content/uploads/2025/07/Select-Bottles.png
END:VEVENT
BEGIN:VEVENT
DTSTART;TZID=America/Los_Angeles:20250930T110000
DTEND;TZID=America/Los_Angeles:20250930T170000
DTSTAMP:20260421T082550
CREATED:20250723T193220Z
LAST-MODIFIED:20250723T193220Z
UID:14508-1759230000-1759251600@ultimatevineyards.com
SUMMARY:2-for-1 Tastings Tuesday
DESCRIPTION:Bring a friend and enjoy our 2-for-1 tastings every Tuesday
URL:https://ultimatevineyards.com/event/2-for-1-tastings-tuesday-8/
LOCATION:Ultimate Vineyards @ Maurice Carrie Winery\, 34225 Rancho California Rd\, Temecula\, CA\, 92591\, United States
CATEGORIES:Weekly Specials
ATTACH;FMTTYPE=image/png:https://ultimatevineyards.com/wp-content/uploads/2025/07/Thursday-4.pdf-1.png
END:VEVENT
BEGIN:VEVENT
DTSTART;VALUE=DATE:20250929
DTEND;VALUE=DATE:20250930
DTSTAMP:20260421T082550
CREATED:20250710T220837Z
LAST-MODIFIED:20250710T220934Z
UID:14422-1759104000-1759190399@ultimatevineyards.com
SUMMARY:Monday Special
DESCRIPTION:$7 glasses of wine on select bottles of red\, white\, & rose wine every Monday! \n 
URL:https://ultimatevineyards.com/event/monday-special-11/
LOCATION:Ultimate Vineyards @ Maurice Carrie Winery\, 34225 Rancho California Rd\, Temecula\, CA\, 92591\, United States
ATTACH;FMTTYPE=image/png:https://ultimatevineyards.com/wp-content/uploads/2025/07/Add-a-heading.png
END:VEVENT
BEGIN:VEVENT
DTSTART;TZID=America/Los_Angeles:20250928T120000
DTEND;TZID=America/Los_Angeles:20250928T160000
DTSTAMP:20260421T082550
CREATED:20250623T225514Z
LAST-MODIFIED:20250623T225514Z
UID:14162-1759060800-1759075200@ultimatevineyards.com
SUMMARY:Kole Weber
DESCRIPTION:Live Music  Sunday\, September 28\,2025 \n12pm to 4pm \nJoin us for live music by Kole Weber\, a talented saxophonist who plays a wide variety of music including jazz\, pop\, R&B\, Latin\, and rock. \n  \n 
URL:https://ultimatevineyards.com/event/kole-weber/
LOCATION:Ultimate Vineyards @ Maurice Carrie Winery\, 34225 Rancho California Rd\, Temecula\, CA\, 92591\, United States
CATEGORIES:Free,Live Music
ATTACH;FMTTYPE=image/png:https://ultimatevineyards.com/wp-content/uploads/2025/04/KOLE-WEBER-5.png
END:VEVENT
BEGIN:VEVENT
DTSTART;TZID=America/Los_Angeles:20250927T140000
DTEND;TZID=America/Los_Angeles:20250927T180000
DTSTAMP:20260421T082550
CREATED:20250623T224705Z
LAST-MODIFIED:20250623T224705Z
UID:14159-1758981600-1758996000@ultimatevineyards.com
SUMMARY:WTFunk Band
DESCRIPTION:We are new fresh Disco\, Dance\, Funk band in So Cal. \nSaturday\, September 27\, 2025 \n2pm to 6pm
URL:https://ultimatevineyards.com/event/wtfunk-band/
LOCATION:CA
CATEGORIES:Free,Live Music
ATTACH;FMTTYPE=image/png:https://ultimatevineyards.com/wp-content/uploads/2025/06/WTF-1.png
END:VEVENT
BEGIN:VEVENT
DTSTART;TZID=America/Los_Angeles:20250925T080000
DTEND;TZID=America/Los_Angeles:20250925T170000
DTSTAMP:20260421T082550
CREATED:20250723T230923Z
LAST-MODIFIED:20250723T230923Z
UID:14659-1758787200-1758819600@ultimatevineyards.com
SUMMARY:Thirteen $ Thursday
DESCRIPTION:Cool off with a delicious Boozy Pop for only $13! \nEnjoy a house made\, wine infused popsicle in a glass of our sparkling wine.
URL:https://ultimatevineyards.com/event/thirteen-thursday-8/
LOCATION:Ultimate Vineyards @ Maurice Carrie Winery\, 34225 Rancho California Rd\, Temecula\, CA\, 92591\, United States
CATEGORIES:Weekly Specials
ATTACH;FMTTYPE=image/png:https://ultimatevineyards.com/wp-content/uploads/2025/07/Thirteen-Thursdays-3.png
END:VEVENT
BEGIN:VEVENT
DTSTART;TZID=America/Los_Angeles:20250924T080000
DTEND;TZID=America/Los_Angeles:20250924T170000
DTSTAMP:20260421T082550
CREATED:20250723T211810Z
LAST-MODIFIED:20250723T211810Z
UID:14592-1758700800-1758733200@ultimatevineyards.com
SUMMARY:Wine Down Wednesdays
DESCRIPTION:Enjoy 50 % off select bottle purchases every Wednesday. \n 
URL:https://ultimatevineyards.com/event/wine-down-wednesdays-10/
LOCATION:Ultimate Vineyards @ Maurice Carrie Winery\, 34225 Rancho California Rd\, Temecula\, CA\, 92591\, United States
CATEGORIES:Weekly Specials
ATTACH;FMTTYPE=image/png:https://ultimatevineyards.com/wp-content/uploads/2025/07/Select-Bottles.png
END:VEVENT
BEGIN:VEVENT
DTSTART;TZID=America/Los_Angeles:20250923T110000
DTEND;TZID=America/Los_Angeles:20250923T170000
DTSTAMP:20260421T082550
CREATED:20250723T200644Z
LAST-MODIFIED:20250723T200644Z
UID:14577-1758625200-1758646800@ultimatevineyards.com
SUMMARY:2-for-1 Tastings Tuesday
DESCRIPTION:Bring a friend and enjoy our 2-for-1 tastings every Tuesday
URL:https://ultimatevineyards.com/event/2-for-1-tastings-tuesday-21/
LOCATION:Ultimate Vineyards @ Maurice Carrie Winery\, 34225 Rancho California Rd\, Temecula\, CA\, 92591\, United States
CATEGORIES:Weekly Specials
ATTACH;FMTTYPE=image/png:https://ultimatevineyards.com/wp-content/uploads/2025/07/Thursday-4.pdf-1.png
END:VEVENT
BEGIN:VEVENT
DTSTART;VALUE=DATE:20250922
DTEND;VALUE=DATE:20250923
DTSTAMP:20260421T082550
CREATED:20250723T200555Z
LAST-MODIFIED:20250723T200555Z
UID:14575-1758499200-1758585599@ultimatevineyards.com
SUMMARY:Monday Special
DESCRIPTION:$7 glasses of wine on select bottles of red\, white\, & rose wine every Monday! \n 
URL:https://ultimatevineyards.com/event/monday-special-25/
LOCATION:Ultimate Vineyards @ Maurice Carrie Winery\, 34225 Rancho California Rd\, Temecula\, CA\, 92591\, United States
ATTACH;FMTTYPE=image/png:https://ultimatevineyards.com/wp-content/uploads/2025/07/Add-a-heading.png
END:VEVENT
BEGIN:VEVENT
DTSTART;TZID=America/Los_Angeles:20250921T120000
DTEND;TZID=America/Los_Angeles:20250921T160000
DTSTAMP:20260421T082550
CREATED:20250623T224105Z
LAST-MODIFIED:20250725T190231Z
UID:14156-1758456000-1758470400@ultimatevineyards.com
SUMMARY:Robert Rauch
DESCRIPTION:September 21\, 2025 \nJoin us for a solo performance by Robert Rauch \nSunday\, 12 to 4pm
URL:https://ultimatevineyards.com/event/robert-rauch-band/
LOCATION:Ultimate Vineyards @ Maurice Carrie Winery\, 34225 Rancho California Rd\, Temecula\, CA\, 92591\, United States
CATEGORIES:Free,Live Music
ATTACH;FMTTYPE=image/png:https://ultimatevineyards.com/wp-content/uploads/2025/06/Robert-Rauch-3.png
END:VEVENT
BEGIN:VEVENT
DTSTART;TZID=America/Los_Angeles:20250920T180000
DTEND;TZID=America/Los_Angeles:20250920T210000
DTSTAMP:20260421T082550
CREATED:20250806T223518Z
LAST-MODIFIED:20250807T000417Z
UID:14689-1758391200-1758402000@ultimatevineyards.com
SUMMARY:Ultimate Grape Stomp Harvest Party
DESCRIPTION:Join Us for the Ultimate Grape Stomp Harvest Party! \nUltimate Vineyards at Maurice Car’rie Winery is excited to continue the cherished tradition of kicking off your shoes\, rolling up your pant legs\, and delighting in the experience of squishing countless blessed grapes beneath your feet! Come participate in our annual Grape Stomp Harvest Party\, where you can enjoy an evening filled with: \n\nMusic\nExquisite wine\nDelicious food available for purchase from our bistro\nEngaging activities for all ages\n\nCelebrate with us! \nTicket Information: \n\nWine Club Members receive: $5 off\nAdmission & Stomp: $50\nAdmission Only: $30\n\nAll tickets include a welcome glass of Cuvee! \n 
URL:https://ultimatevineyards.com/event/ultimate-grape-stomp-harvest-party/
LOCATION:Ultimate Vineyards @ Maurice Carrie Winery\, 34225 Rancho California Rd\, Temecula\, CA\, 92591\, United States
CATEGORIES:Winery Event
ATTACH;FMTTYPE=image/png:https://ultimatevineyards.com/wp-content/uploads/2025/08/Grape-Stomp-Harvest-Party-9.png
END:VEVENT
BEGIN:VEVENT
DTSTART;TZID=America/Los_Angeles:20250920T140000
DTEND;TZID=America/Los_Angeles:20250920T180000
DTSTAMP:20260421T082550
CREATED:20250623T214654Z
LAST-MODIFIED:20250716T204149Z
UID:14145-1758376800-1758391200@ultimatevineyards.com
SUMMARY:Denny T & the Soul Patrol
DESCRIPTION:Join us for live music on the patio with Denny T & the Soul Patrol. Providing Motown\, Blues\, Soul\, Jazz\, R&B and Dance music. \nSaturday\, September 20th from 2:00 to 6:00 pm
URL:https://ultimatevineyards.com/event/denny-t-the-soul-patrol/
LOCATION:Ultimate Vineyards @ Maurice Carrie Winery\, 34225 Rancho California Rd\, Temecula\, CA\, 92591\, United States
CATEGORIES:Live Music
ATTACH;FMTTYPE=image/png:https://ultimatevineyards.com/wp-content/uploads/2025/02/Denny-T-Soul-Patrol-3.png
END:VEVENT
BEGIN:VEVENT
DTSTART;TZID=America/Los_Angeles:20250919T160000
DTEND;TZID=America/Los_Angeles:20250919T200000
DTSTAMP:20260421T082550
CREATED:20250421T220422Z
LAST-MODIFIED:20250806T223359Z
UID:13668-1758297600-1758312000@ultimatevineyards.com
SUMMARY:Friday Night Live Music
DESCRIPTION:  \nFriday nights with Rene Latin Soul\, enjoy live music every Friday from 4 to 8 pm. \nWinery & Bistro hours 11 am to 8 pm
URL:https://ultimatevineyards.com/event/friday-night-live-music-2/
LOCATION:Ultimate Vineyards @ Maurice Carrie Winery\, 34225 Rancho California Rd\, Temecula\, CA\, 92591\, United States
CATEGORIES:Free,Live Music
ATTACH;FMTTYPE=image/png:https://ultimatevineyards.com/wp-content/uploads/2025/04/RENE-LATIN-SOUL-6.png
END:VEVENT
BEGIN:VEVENT
DTSTART;TZID=America/Los_Angeles:20250918T080000
DTEND;TZID=America/Los_Angeles:20250918T170000
DTSTAMP:20260421T082550
CREATED:20250723T230851Z
LAST-MODIFIED:20250723T230851Z
UID:14658-1758182400-1758214800@ultimatevineyards.com
SUMMARY:Thirteen $ Thursday
DESCRIPTION:Cool off with a delicious Boozy Pop for only $13! \nEnjoy a house made\, wine infused popsicle in a glass of our sparkling wine.
URL:https://ultimatevineyards.com/event/thirteen-thursday-7/
LOCATION:Ultimate Vineyards @ Maurice Carrie Winery\, 34225 Rancho California Rd\, Temecula\, CA\, 92591\, United States
CATEGORIES:Weekly Specials
ATTACH;FMTTYPE=image/png:https://ultimatevineyards.com/wp-content/uploads/2025/07/Thirteen-Thursdays-3.png
END:VEVENT
BEGIN:VEVENT
DTSTART;TZID=America/Los_Angeles:20250917T080000
DTEND;TZID=America/Los_Angeles:20250917T170000
DTSTAMP:20260421T082550
CREATED:20250723T211707Z
LAST-MODIFIED:20250723T211707Z
UID:14593-1758096000-1758128400@ultimatevineyards.com
SUMMARY:Wine Down Wednesdays
DESCRIPTION:Enjoy 50 % off select bottle purchases every Wednesday. \n 
URL:https://ultimatevineyards.com/event/wine-down-wednesdays-9/
LOCATION:Ultimate Vineyards @ Maurice Carrie Winery\, 34225 Rancho California Rd\, Temecula\, CA\, 92591\, United States
CATEGORIES:Weekly Specials
ATTACH;FMTTYPE=image/png:https://ultimatevineyards.com/wp-content/uploads/2025/07/Select-Bottles.png
END:VEVENT
BEGIN:VEVENT
DTSTART;TZID=America/Los_Angeles:20250916T110000
DTEND;TZID=America/Los_Angeles:20250916T170000
DTSTAMP:20260421T082550
CREATED:20250723T193113Z
LAST-MODIFIED:20250723T193113Z
UID:14509-1758020400-1758042000@ultimatevineyards.com
SUMMARY:2-for-1 Tastings Tuesday
DESCRIPTION:Bring a friend and enjoy our 2-for-1 tastings every Tuesday
URL:https://ultimatevineyards.com/event/2-for-1-tastings-tuesday-7/
LOCATION:Ultimate Vineyards @ Maurice Carrie Winery\, 34225 Rancho California Rd\, Temecula\, CA\, 92591\, United States
CATEGORIES:Weekly Specials
ATTACH;FMTTYPE=image/png:https://ultimatevineyards.com/wp-content/uploads/2025/07/Thursday-4.pdf-1.png
END:VEVENT
BEGIN:VEVENT
DTSTART;VALUE=DATE:20250915
DTEND;VALUE=DATE:20250916
DTSTAMP:20260421T082550
CREATED:20250710T220804Z
LAST-MODIFIED:20250710T220804Z
UID:14420-1757894400-1757980799@ultimatevineyards.com
SUMMARY:Monday Special
DESCRIPTION:$7 glasses of wine on select bottles of red\, white\, & rose wine every Monday! \n 
URL:https://ultimatevineyards.com/event/monday-special-10/
LOCATION:Ultimate Vineyards @ Maurice Carrie Winery\, 34225 Rancho California Rd\, Temecula\, CA\, 92591\, United States
ATTACH;FMTTYPE=image/png:https://ultimatevineyards.com/wp-content/uploads/2025/07/Add-a-heading.png
END:VEVENT
BEGIN:VEVENT
DTSTART;TZID=America/Los_Angeles:20250914T120000
DTEND;TZID=America/Los_Angeles:20250914T160000
DTSTAMP:20260421T082550
CREATED:20250725T190055Z
LAST-MODIFIED:20250725T200250Z
UID:14672-1757851200-1757865600@ultimatevineyards.com
SUMMARY:Jake Hitt
DESCRIPTION:Join us for a live solo performance by Jake Hitt \nSunday\, September 14th \n12pm – 4 pm
URL:https://ultimatevineyards.com/event/the-jake-hitt-band-2/
LOCATION:Ultimate Vineyards @ Maurice Carrie Winery\, 34225 Rancho California Rd\, Temecula\, CA\, 92591\, United States
CATEGORIES:Free,Live Music
ATTACH;FMTTYPE=image/webp:https://ultimatevineyards.com/wp-content/uploads/2024/11/jake-hitt.webp
END:VEVENT
BEGIN:VEVENT
DTSTART;TZID=America/Los_Angeles:20250913T140000
DTEND;TZID=America/Los_Angeles:20250913T180000
DTSTAMP:20260421T082550
CREATED:20250623T222732Z
LAST-MODIFIED:20250623T222732Z
UID:14150-1757772000-1757786400@ultimatevineyards.com
SUMMARY:JOHN DEMPS FULL EFFECT
DESCRIPTION:Live Music 2:00-6:00 \nSaturday\, September 13\, 2025 \nJohn Demps’ Full Effect Band. High Energy Band…playing the very best in R&B\, Blues\, Hip Hop\, Dance\, Pop\, and Rock
URL:https://ultimatevineyards.com/event/john-demps-full-effect/
LOCATION:Ultimate Vineyards @ Maurice Carrie Winery\, 34225 Rancho California Rd\, Temecula\, CA\, 92591\, United States
CATEGORIES:Live Music
ATTACH;FMTTYPE=image/png:https://ultimatevineyards.com/wp-content/uploads/2025/05/Your-paragraph-text-3.png
END:VEVENT
BEGIN:VEVENT
DTSTART;TZID=America/Los_Angeles:20250911T080000
DTEND;TZID=America/Los_Angeles:20250911T170000
DTSTAMP:20260421T082550
CREATED:20250723T230708Z
LAST-MODIFIED:20250723T230708Z
UID:14657-1757577600-1757610000@ultimatevineyards.com
SUMMARY:Thirteen $ Thursday
DESCRIPTION:Cool off with a delicious Boozy Pop for only $13! \nEnjoy a house made\, wine infused popsicle in a glass of our sparkling wine.
URL:https://ultimatevineyards.com/event/thirteen-thursday-6/
LOCATION:Ultimate Vineyards @ Maurice Carrie Winery\, 34225 Rancho California Rd\, Temecula\, CA\, 92591\, United States
CATEGORIES:Weekly Specials
ATTACH;FMTTYPE=image/png:https://ultimatevineyards.com/wp-content/uploads/2025/07/Thirteen-Thursdays-3.png
END:VEVENT
BEGIN:VEVENT
DTSTART;TZID=America/Los_Angeles:20250910T080000
DTEND;TZID=America/Los_Angeles:20250910T170000
DTSTAMP:20260421T082550
CREATED:20250723T211547Z
LAST-MODIFIED:20250723T211547Z
UID:14594-1757491200-1757523600@ultimatevineyards.com
SUMMARY:Wine Down Wednesdays
DESCRIPTION:Enjoy 50 % off select bottle purchases every Wednesday. \n 
URL:https://ultimatevineyards.com/event/wine-down-wednesdays-8/
LOCATION:Ultimate Vineyards @ Maurice Carrie Winery\, 34225 Rancho California Rd\, Temecula\, CA\, 92591\, United States
CATEGORIES:Weekly Specials
ATTACH;FMTTYPE=image/png:https://ultimatevineyards.com/wp-content/uploads/2025/07/Select-Bottles.png
END:VEVENT
BEGIN:VEVENT
DTSTART;TZID=America/Los_Angeles:20250909T110000
DTEND;TZID=America/Los_Angeles:20250909T170000
DTSTAMP:20260421T082550
CREATED:20250723T193044Z
LAST-MODIFIED:20250723T193044Z
UID:14511-1757415600-1757437200@ultimatevineyards.com
SUMMARY:2-for-1 Tastings Tuesday
DESCRIPTION:Bring a friend and enjoy our 2-for-1 tastings every Tuesday
URL:https://ultimatevineyards.com/event/2-for-1-tastings-tuesday-6/
LOCATION:Ultimate Vineyards @ Maurice Carrie Winery\, 34225 Rancho California Rd\, Temecula\, CA\, 92591\, United States
CATEGORIES:Weekly Specials
ATTACH;FMTTYPE=image/png:https://ultimatevineyards.com/wp-content/uploads/2025/07/Thursday-4.pdf-1.png
END:VEVENT
BEGIN:VEVENT
DTSTART;VALUE=DATE:20250908
DTEND;VALUE=DATE:20250909
DTSTAMP:20260421T082550
CREATED:20250710T220354Z
LAST-MODIFIED:20250710T220354Z
UID:14421-1757289600-1757375999@ultimatevineyards.com
SUMMARY:Monday Special
DESCRIPTION:$7 glasses of wine on select bottles of red\, white\, & rose wine every Monday! \n 
URL:https://ultimatevineyards.com/event/monday-special-9/
LOCATION:Ultimate Vineyards @ Maurice Carrie Winery\, 34225 Rancho California Rd\, Temecula\, CA\, 92591\, United States
ATTACH;FMTTYPE=image/png:https://ultimatevineyards.com/wp-content/uploads/2025/07/Add-a-heading.png
END:VEVENT
BEGIN:VEVENT
DTSTART;TZID=America/Los_Angeles:20250907T120000
DTEND;TZID=America/Los_Angeles:20250907T160000
DTSTAMP:20260421T082550
CREATED:20250623T220222Z
LAST-MODIFIED:20250623T220222Z
UID:14147-1757246400-1757260800@ultimatevineyards.com
SUMMARY:RENE LATIN SOUL
DESCRIPTION:Spice up your Sunday with Salsa\, Latin Jazz Instrumental\, Bachata\, Reggaeton\, Merengue\, Ballenato and more! \nSunday\, September 7\, 2025 from 12 to 4 pm. \n 
URL:https://ultimatevineyards.com/event/rene-latin-soul/
LOCATION:Ultimate Vineyards @ Maurice Carrie Winery\, 34225 Rancho California Rd\, Temecula\, CA\, 92591\, United States
CATEGORIES:Free,Live Music
ATTACH;FMTTYPE=image/png:https://ultimatevineyards.com/wp-content/uploads/2025/06/RENE-LATIN-SOUL-5.png
END:VEVENT
BEGIN:VEVENT
DTSTART;TZID=America/Los_Angeles:20250906T140000
DTEND;TZID=America/Los_Angeles:20250906T180000
DTSTAMP:20260421T082550
CREATED:20250623T223152Z
LAST-MODIFIED:20250716T204643Z
UID:14153-1757167200-1757181600@ultimatevineyards.com
SUMMARY:DJ NOAH & KOLE WEBER
DESCRIPTION:DJ Noah \nGather your friends\, savor delicious food and wine\, and dance to live DJ music! \nSaturday\, September 6th from 2:00 to 6:00 pm
URL:https://ultimatevineyards.com/event/dj-noah-kole-weber/
LOCATION:Ultimate Vineyards @ Maurice Carrie Winery\, 34225 Rancho California Rd\, Temecula\, CA\, 92591\, United States
CATEGORIES:Free
ATTACH;FMTTYPE=image/png:https://ultimatevineyards.com/wp-content/uploads/2025/06/DJ-Noah-7.png
END:VEVENT
BEGIN:VEVENT
DTSTART;TZID=America/Los_Angeles:20250904T080000
DTEND;TZID=America/Los_Angeles:20250904T170000
DTSTAMP:20260421T082550
CREATED:20250723T225429Z
LAST-MODIFIED:20250723T225429Z
UID:14661-1756972800-1757005200@ultimatevineyards.com
SUMMARY:Thirteen $ Thursday
DESCRIPTION:Cool off with a delicious Boozy Pop for only $13! \nEnjoy a house made\, wine infused popsicle in a glass of our sparkling wine.
URL:https://ultimatevineyards.com/event/thirteen-thursday-5/
LOCATION:Ultimate Vineyards @ Maurice Carrie Winery\, 34225 Rancho California Rd\, Temecula\, CA\, 92591\, United States
CATEGORIES:Weekly Specials
ATTACH;FMTTYPE=image/png:https://ultimatevineyards.com/wp-content/uploads/2025/07/Thirteen-Thursdays-3.png
END:VEVENT
BEGIN:VEVENT
DTSTART;TZID=America/Los_Angeles:20250903T080000
DTEND;TZID=America/Los_Angeles:20250903T170000
DTSTAMP:20260421T082550
CREATED:20250723T200110Z
LAST-MODIFIED:20250723T211016Z
UID:14564-1756886400-1756918800@ultimatevineyards.com
SUMMARY:Wine Down Wednesdays
DESCRIPTION:Enjoy 50 % off select bottle purchases every Wednesday. \n 
URL:https://ultimatevineyards.com/event/wine-down-wednesdays-7/
LOCATION:Ultimate Vineyards @ Maurice Carrie Winery\, 34225 Rancho California Rd\, Temecula\, CA\, 92591\, United States
CATEGORIES:Weekly Specials
ATTACH;FMTTYPE=image/png:https://ultimatevineyards.com/wp-content/uploads/2025/07/Select-Bottles.png
END:VEVENT
BEGIN:VEVENT
DTSTART;TZID=America/Los_Angeles:20250902T110000
DTEND;TZID=America/Los_Angeles:20250902T170000
DTSTAMP:20260421T082550
CREATED:20250723T192952Z
LAST-MODIFIED:20250723T193013Z
UID:14510-1756810800-1756832400@ultimatevineyards.com
SUMMARY:2-for-1 Tastings Tuesday
DESCRIPTION:Bring a friend and enjoy our 2-for-1 tastings every Tuesday
URL:https://ultimatevineyards.com/event/2-for-1-tastings-tuesday-5/
LOCATION:Ultimate Vineyards @ Maurice Carrie Winery\, 34225 Rancho California Rd\, Temecula\, CA\, 92591\, United States
CATEGORIES:Weekly Specials
ATTACH;FMTTYPE=image/png:https://ultimatevineyards.com/wp-content/uploads/2025/07/Thursday-4.pdf-1.png
END:VEVENT
BEGIN:VEVENT
DTSTART;VALUE=DATE:20250901
DTEND;VALUE=DATE:20250902
DTSTAMP:20260421T082550
CREATED:20250710T215630Z
LAST-MODIFIED:20250710T215630Z
UID:14415-1756684800-1756771199@ultimatevineyards.com
SUMMARY:Monday Special
DESCRIPTION:$7 glasses of wine on select bottles of red\, white\, & rose wine every Monday! \n 
URL:https://ultimatevineyards.com/event/monday-special-8/
LOCATION:Ultimate Vineyards @ Maurice Carrie Winery\, 34225 Rancho California Rd\, Temecula\, CA\, 92591\, United States
ATTACH;FMTTYPE=image/png:https://ultimatevineyards.com/wp-content/uploads/2025/07/Add-a-heading.png
END:VEVENT
END:VCALENDAR