BEGIN:VCALENDAR
VERSION:2.0
PRODID:-//Maurice Car’rie Vineyard &amp; Winery - ECPv6.15.20//NONSGML v1.0//EN
CALSCALE:GREGORIAN
METHOD:PUBLISH
X-WR-CALNAME:Maurice Car’rie Vineyard &amp; Winery
X-ORIGINAL-URL:https://ultimatevineyards.com
X-WR-CALDESC:Events for Maurice Car’rie Vineyard &amp; Winery
REFRESH-INTERVAL;VALUE=DURATION:PT1H
X-Robots-Tag:noindex
X-PUBLISHED-TTL:PT1H
BEGIN:VTIMEZONE
TZID:America/Los_Angeles
BEGIN:DAYLIGHT
TZOFFSETFROM:-0800
TZOFFSETTO:-0700
TZNAME:PDT
DTSTART:20240310T100000
END:DAYLIGHT
BEGIN:STANDARD
TZOFFSETFROM:-0700
TZOFFSETTO:-0800
TZNAME:PST
DTSTART:20241103T090000
END:STANDARD
BEGIN:DAYLIGHT
TZOFFSETFROM:-0800
TZOFFSETTO:-0700
TZNAME:PDT
DTSTART:20250309T100000
END:DAYLIGHT
BEGIN:STANDARD
TZOFFSETFROM:-0700
TZOFFSETTO:-0800
TZNAME:PST
DTSTART:20251102T090000
END:STANDARD
BEGIN:DAYLIGHT
TZOFFSETFROM:-0800
TZOFFSETTO:-0700
TZNAME:PDT
DTSTART:20260308T100000
END:DAYLIGHT
BEGIN:STANDARD
TZOFFSETFROM:-0700
TZOFFSETTO:-0800
TZNAME:PST
DTSTART:20261101T090000
END:STANDARD
END:VTIMEZONE
BEGIN:VEVENT
DTSTART;TZID=America/Los_Angeles:20251122T133000
DTEND;TZID=America/Los_Angeles:20251122T173000
DTSTAMP:20260421T031755
CREATED:20250708T183733Z
LAST-MODIFIED:20250708T190138Z
UID:14360-1763818200-1763832600@ultimatevineyards.com
SUMMARY:WTFunk Band
DESCRIPTION:We are new fresh Disco\, Dance\, Funk band in So Cal. \nSaturday\, November 22\, 2025 \n1:30 pm to 5:30 pm
URL:https://ultimatevineyards.com/event/wtfunk-band-2/
LOCATION:Ultimate Vineyards @ Maurice Carrie Winery\, 34225 Rancho California Rd\, Temecula\, CA\, 92591\, United States
CATEGORIES:Free,Live Music
ATTACH;FMTTYPE=image/png:https://ultimatevineyards.com/wp-content/uploads/2025/07/WTF-2.png
END:VEVENT
BEGIN:VEVENT
DTSTART;TZID=America/Los_Angeles:20251121T160000
DTEND;TZID=America/Los_Angeles:20251121T200000
DTSTAMP:20260421T031755
CREATED:20251003T173838Z
LAST-MODIFIED:20251003T180701Z
UID:14913-1763740800-1763755200@ultimatevineyards.com
SUMMARY:Friday Night Live Music
DESCRIPTION:Fridays from 4:00 to 8:00 pm\, immerse yourself in the vibrant sounds of Rene Latin Soul as you sway and dance the night away. Indulge in delicious food and wine while soaking up the casual and welcoming atmosphere that makes our winery a beloved destination. Our restaurant will be open until 8:00 pm\, and the winery will keep the good vibes flowing until 8:00 pm.
URL:https://ultimatevineyards.com/event/friday-night-live-music-14/
LOCATION:Ultimate Vineyards @ Maurice Carrie Winery\, 34225 Rancho California Rd\, Temecula\, CA\, 92591\, United States
CATEGORIES:Free,Live Music
ATTACH;FMTTYPE=image/png:https://ultimatevineyards.com/wp-content/uploads/2025/08/LATIN-MUSIC-1.png
END:VEVENT
BEGIN:VEVENT
DTSTART;TZID=America/Los_Angeles:20251119T080000
DTEND;TZID=America/Los_Angeles:20251119T170000
DTSTAMP:20260421T031755
CREATED:20250723T214113Z
LAST-MODIFIED:20250723T214113Z
UID:14608-1763539200-1763571600@ultimatevineyards.com
SUMMARY:Wine Down Wednesdays
DESCRIPTION:Enjoy 50 % off select bottle purchases every Wednesday. \n 
URL:https://ultimatevineyards.com/event/wine-down-wednesdays-18/
LOCATION:Ultimate Vineyards @ Maurice Carrie Winery\, 34225 Rancho California Rd\, Temecula\, CA\, 92591\, United States
CATEGORIES:Weekly Specials
ATTACH;FMTTYPE=image/png:https://ultimatevineyards.com/wp-content/uploads/2025/07/Select-Bottles.png
END:VEVENT
BEGIN:VEVENT
DTSTART;TZID=America/Los_Angeles:20251118T110000
DTEND;TZID=America/Los_Angeles:20251118T170000
DTSTAMP:20260421T031755
CREATED:20250723T194501Z
LAST-MODIFIED:20250723T194501Z
UID:14525-1763463600-1763485200@ultimatevineyards.com
SUMMARY:2-for-1 Tastings Tuesday
DESCRIPTION:Bring a friend and enjoy our 2-for-1 tastings every Tuesday
URL:https://ultimatevineyards.com/event/2-for-1-tastings-tuesday-15/
LOCATION:Ultimate Vineyards @ Maurice Carrie Winery\, 34225 Rancho California Rd\, Temecula\, CA\, 92591\, United States
CATEGORIES:Weekly Specials
ATTACH;FMTTYPE=image/png:https://ultimatevineyards.com/wp-content/uploads/2025/07/Thursday-4.pdf-1.png
END:VEVENT
BEGIN:VEVENT
DTSTART;VALUE=DATE:20251117
DTEND;VALUE=DATE:20251118
DTSTAMP:20260421T031755
CREATED:20250710T221839Z
LAST-MODIFIED:20250710T221839Z
UID:14437-1763337600-1763423999@ultimatevineyards.com
SUMMARY:Monday Special
DESCRIPTION:$7 glasses of wine on select bottles of red\, white\, & rose wine every Monday! \n 
URL:https://ultimatevineyards.com/event/monday-special-18/
LOCATION:Ultimate Vineyards @ Maurice Carrie Winery\, 34225 Rancho California Rd\, Temecula\, CA\, 92591\, United States
ATTACH;FMTTYPE=image/png:https://ultimatevineyards.com/wp-content/uploads/2025/07/Add-a-heading.png
END:VEVENT
BEGIN:VEVENT
DTSTART;TZID=America/Los_Angeles:20251116T120000
DTEND;TZID=America/Los_Angeles:20251116T160000
DTSTAMP:20260421T031755
CREATED:20250708T183308Z
LAST-MODIFIED:20250708T183308Z
UID:14357-1763294400-1763308800@ultimatevineyards.com
SUMMARY:Dalton Gang Rocks
DESCRIPTION:Join us for live music from 12 to 4 pm Sunday\, November 16th.
URL:https://ultimatevineyards.com/event/dalton-gang-rocks/
LOCATION:Ultimate Vineyards @ Maurice Carrie Winery\, 34225 Rancho California Rd\, Temecula\, CA\, 92591\, United States
CATEGORIES:Free,Live Music
ATTACH;FMTTYPE=image/png:https://ultimatevineyards.com/wp-content/uploads/2025/07/DALTON-GANG.png
END:VEVENT
BEGIN:VEVENT
DTSTART;TZID=America/Los_Angeles:20251115T133000
DTEND;TZID=America/Los_Angeles:20251115T173000
DTSTAMP:20260421T031755
CREATED:20250707T234631Z
LAST-MODIFIED:20250708T190433Z
UID:14353-1763213400-1763227800@ultimatevineyards.com
SUMMARY:DJ NOAH & KOLE WEBER
DESCRIPTION:DJ Noah \nGather your friends\, savor delicious food and wine\, and dance to live DJ music! \nSaturday\, November 15th from 1:30 to 5:30 pm
URL:https://ultimatevineyards.com/event/dj-noah-kole-weber-3/
LOCATION:Ultimate Vineyards @ Maurice Carrie Winery\, 34225 Rancho California Rd\, Temecula\, CA\, 92591\, United States
CATEGORIES:Free,Live Music
ATTACH;FMTTYPE=image/png:https://ultimatevineyards.com/wp-content/uploads/2025/07/DJ-Noah-5.png
END:VEVENT
BEGIN:VEVENT
DTSTART;TZID=America/Los_Angeles:20251114T160000
DTEND;TZID=America/Los_Angeles:20251114T200000
DTSTAMP:20260421T031755
CREATED:20251003T174140Z
LAST-MODIFIED:20251003T174140Z
UID:14917-1763136000-1763150400@ultimatevineyards.com
SUMMARY:Friday Night Live Music
DESCRIPTION:Fridays from 4:00 to 8:00 pm\, immerse yourself in the vibrant sounds of Rene Latin Soul as you sway and dance the night away. Indulge in delicious food and wine while soaking up the casual and welcoming atmosphere that makes our winery a beloved destination. Our bistro and tasting room will be open until 8:00 pm.
URL:https://ultimatevineyards.com/event/friday-night-live-music-16/
LOCATION:Ultimate Vineyards @ Maurice Carrie Winery\, 34225 Rancho California Rd\, Temecula\, CA\, 92591\, United States
CATEGORIES:Free,Live Music
ATTACH;FMTTYPE=image/png:https://ultimatevineyards.com/wp-content/uploads/2025/08/LATIN-MUSIC-1.png
END:VEVENT
BEGIN:VEVENT
DTSTART;TZID=America/Los_Angeles:20251112T080000
DTEND;TZID=America/Los_Angeles:20251112T170000
DTSTAMP:20260421T031755
CREATED:20250723T214005Z
LAST-MODIFIED:20250723T214005Z
UID:14610-1762934400-1762966800@ultimatevineyards.com
SUMMARY:Wine Down Wednesdays
DESCRIPTION:Enjoy 50 % off select bottle purchases every Wednesday. \n 
URL:https://ultimatevineyards.com/event/wine-down-wednesdays-17/
LOCATION:Ultimate Vineyards @ Maurice Carrie Winery\, 34225 Rancho California Rd\, Temecula\, CA\, 92591\, United States
CATEGORIES:Weekly Specials
ATTACH;FMTTYPE=image/png:https://ultimatevineyards.com/wp-content/uploads/2025/07/Select-Bottles.png
END:VEVENT
BEGIN:VEVENT
DTSTART;TZID=America/Los_Angeles:20251111T110000
DTEND;TZID=America/Los_Angeles:20251111T170000
DTSTAMP:20260421T031755
CREATED:20250723T194243Z
LAST-MODIFIED:20250723T194243Z
UID:14524-1762858800-1762880400@ultimatevineyards.com
SUMMARY:2-for-1 Tastings Tuesday
DESCRIPTION:Bring a friend and enjoy our 2-for-1 tastings every Tuesday
URL:https://ultimatevineyards.com/event/2-for-1-tastings-tuesday-14/
LOCATION:Ultimate Vineyards @ Maurice Carrie Winery\, 34225 Rancho California Rd\, Temecula\, CA\, 92591\, United States
CATEGORIES:Weekly Specials
ATTACH;FMTTYPE=image/png:https://ultimatevineyards.com/wp-content/uploads/2025/07/Thursday-4.pdf-1.png
END:VEVENT
BEGIN:VEVENT
DTSTART;VALUE=DATE:20251110
DTEND;VALUE=DATE:20251111
DTSTAMP:20260421T031755
CREATED:20250710T221450Z
LAST-MODIFIED:20250710T221654Z
UID:14436-1762732800-1762819199@ultimatevineyards.com
SUMMARY:Monday Special
DESCRIPTION:$7 glasses of wine on select bottles of red\, white\, & rose wine every Monday! \n 
URL:https://ultimatevineyards.com/event/monday-special-17/
LOCATION:Ultimate Vineyards @ Maurice Carrie Winery\, 34225 Rancho California Rd\, Temecula\, CA\, 92591\, United States
ATTACH;FMTTYPE=image/png:https://ultimatevineyards.com/wp-content/uploads/2025/07/Add-a-heading.png
END:VEVENT
BEGIN:VEVENT
DTSTART;TZID=America/Los_Angeles:20251109T120000
DTEND;TZID=America/Los_Angeles:20251109T160000
DTSTAMP:20260421T031755
CREATED:20251022T231202Z
LAST-MODIFIED:20251101T184314Z
UID:14938-1762689600-1762704000@ultimatevineyards.com
SUMMARY:Dalton Gazette
DESCRIPTION:Dalton Gazette is a talented solo artist hailing from Temple\, TX. With a diverse range of genres\, including classic rock\, soft rock\, alternative rock\, blues\, grunge\, and reggae\, he brings a unique sound that captivates audiences.
URL:https://ultimatevineyards.com/event/dalton-gazette/
LOCATION:Ultimate Vineyards @ Maurice Carrie Winery\, 34225 Rancho California Rd\, Temecula\, CA\, 92591\, United States
CATEGORIES:Free,Live Music
ATTACH;FMTTYPE=image/png:https://ultimatevineyards.com/wp-content/uploads/2025/11/Dalton-Gazette.png
END:VEVENT
BEGIN:VEVENT
DTSTART;TZID=America/Los_Angeles:20251108T140000
DTEND;TZID=America/Los_Angeles:20251108T180000
DTSTAMP:20260421T031755
CREATED:20250707T234420Z
LAST-MODIFIED:20250707T234420Z
UID:14351-1762610400-1762624800@ultimatevineyards.com
SUMMARY:JOHN DEMPS FULL EFFECT
DESCRIPTION:Live Music 2:00-6:00 \nSaturday\, November 8\, 2025 \nJohn Demps’ Full Effect Band. High Energy Band…playing the very best in R&B\, Blues\, Hip Hop\, Dance\, Pop\, and Rock
URL:https://ultimatevineyards.com/event/john-demps-full-effect-3/
LOCATION:Ultimate Vineyards @ Maurice Carrie Winery\, 34225 Rancho California Rd\, Temecula\, CA\, 92591\, United States
CATEGORIES:Live Music
ATTACH;FMTTYPE=image/png:https://ultimatevineyards.com/wp-content/uploads/2025/05/Your-paragraph-text-3.png
END:VEVENT
BEGIN:VEVENT
DTSTART;TZID=America/Los_Angeles:20251107T160000
DTEND;TZID=America/Los_Angeles:20251107T200000
DTSTAMP:20260421T031755
CREATED:20251003T173651Z
LAST-MODIFIED:20251003T175950Z
UID:14911-1762531200-1762545600@ultimatevineyards.com
SUMMARY:Friday Night Live Music
DESCRIPTION:Fridays from 4:00 to 8:00 pm\, immerse yourself in the vibrant sounds of Rene Latin Soul as you sway and dance the night away. Indulge in delicious food and wine while soaking up the casual and welcoming atmosphere that makes our winery a beloved destination. Our restaurant will be open until 8:00 pm\, and the winery will keep the good vibes flowing until 8:00 pm.
URL:https://ultimatevineyards.com/event/friday-night-live-music-13/
LOCATION:Ultimate Vineyards @ Maurice Carrie Winery\, 34225 Rancho California Rd\, Temecula\, CA\, 92591\, United States
CATEGORIES:Free,Live Music
ATTACH;FMTTYPE=image/png:https://ultimatevineyards.com/wp-content/uploads/2025/08/LATIN-MUSIC-1.png
END:VEVENT
BEGIN:VEVENT
DTSTART;TZID=America/Los_Angeles:20251105T080000
DTEND;TZID=America/Los_Angeles:20251105T170000
DTSTAMP:20260421T031755
CREATED:20250723T213556Z
LAST-MODIFIED:20250723T213556Z
UID:14586-1762329600-1762362000@ultimatevineyards.com
SUMMARY:Wine Down Wednesdays
DESCRIPTION:Enjoy 50 % off select bottle purchases every Wednesday. \n 
URL:https://ultimatevineyards.com/event/wine-down-wednesdays-16/
LOCATION:Ultimate Vineyards @ Maurice Carrie Winery\, 34225 Rancho California Rd\, Temecula\, CA\, 92591\, United States
CATEGORIES:Weekly Specials
ATTACH;FMTTYPE=image/png:https://ultimatevineyards.com/wp-content/uploads/2025/07/Select-Bottles.png
END:VEVENT
BEGIN:VEVENT
DTSTART;TZID=America/Los_Angeles:20251104T110000
DTEND;TZID=America/Los_Angeles:20251104T170000
DTSTAMP:20260421T031755
CREATED:20250723T194109Z
LAST-MODIFIED:20250723T194109Z
UID:14528-1762254000-1762275600@ultimatevineyards.com
SUMMARY:2-for-1 Tastings Tuesday
DESCRIPTION:Bring a friend and enjoy our 2-for-1 tastings every Tuesday
URL:https://ultimatevineyards.com/event/2-for-1-tastings-tuesday-13/
LOCATION:Ultimate Vineyards @ Maurice Carrie Winery\, 34225 Rancho California Rd\, Temecula\, CA\, 92591\, United States
CATEGORIES:Weekly Specials
ATTACH;FMTTYPE=image/png:https://ultimatevineyards.com/wp-content/uploads/2025/07/Thursday-4.pdf-1.png
END:VEVENT
BEGIN:VEVENT
DTSTART;VALUE=DATE:20251103
DTEND;VALUE=DATE:20251104
DTSTAMP:20260421T031755
CREATED:20250710T221324Z
LAST-MODIFIED:20250710T221324Z
UID:14427-1762128000-1762214399@ultimatevineyards.com
SUMMARY:Monday Special
DESCRIPTION:$7 glasses of wine on select bottles of red\, white\, & rose wine every Monday! \n 
URL:https://ultimatevineyards.com/event/monday-special-16/
LOCATION:Ultimate Vineyards @ Maurice Carrie Winery\, 34225 Rancho California Rd\, Temecula\, CA\, 92591\, United States
ATTACH;FMTTYPE=image/png:https://ultimatevineyards.com/wp-content/uploads/2025/07/Add-a-heading.png
END:VEVENT
BEGIN:VEVENT
DTSTART;TZID=America/Los_Angeles:20251102T120000
DTEND;TZID=America/Los_Angeles:20251102T160000
DTSTAMP:20260421T031755
CREATED:20250707T234254Z
LAST-MODIFIED:20250707T234254Z
UID:14349-1762084800-1762099200@ultimatevineyards.com
SUMMARY:RENE LATIN SOUL
DESCRIPTION:Spice up your Sunday with Salsa\, Latin Jazz Instrumental\, Bachata\, Reggaeton\, Merengue\, Ballenato and more! \nSunday\, November 2\, 2025 from 12 to 4 pm. \n 
URL:https://ultimatevineyards.com/event/rene-latin-soul-3/
LOCATION:Ultimate Vineyards @ Maurice Carrie Winery\, 34225 Rancho California Rd\, Temecula\, CA\, 92591\, United States
CATEGORIES:Free,Live Music
ATTACH;FMTTYPE=image/png:https://ultimatevineyards.com/wp-content/uploads/2025/06/RENE-LATIN-SOUL-5.png
END:VEVENT
BEGIN:VEVENT
DTSTART;TZID=America/Los_Angeles:20251102T120000
DTEND;TZID=America/Los_Angeles:20251102T160000
DTSTAMP:20260421T031755
CREATED:20231013T191249Z
LAST-MODIFIED:20250725T193808Z
UID:12147-1762084800-1762099200@ultimatevineyards.com
SUMMARY:Day of the Dead Celebration
DESCRIPTION:Join us for a vibrant celebration of the Day of the Dead\, featuring live music from René Latin Soul! Ultimate Bistro will tempt your taste buds with mouthwatering tacos. Tequila margaritas and palomas will also be available for purchase. Gather your friends and family\, and come celebrate with us!
URL:https://ultimatevineyards.com/event/member-party-day-of-the-dead-celebration/
LOCATION:Ultimate Vineyards @ Maurice Carrie Winery\, 34225 Rancho California Rd\, Temecula\, CA\, 92591\, United States
CATEGORIES:Live Music
ATTACH;FMTTYPE=image/png:https://ultimatevineyards.com/wp-content/uploads/2023/10/Maurice-Carrie-Winery-Presents.png
END:VEVENT
BEGIN:VEVENT
DTSTART;TZID=America/Los_Angeles:20251101T140000
DTEND;TZID=America/Los_Angeles:20251101T180000
DTSTAMP:20260421T031755
CREATED:20250707T234143Z
LAST-MODIFIED:20250708T193455Z
UID:14346-1762005600-1762020000@ultimatevineyards.com
SUMMARY:Robert Rauch Band
DESCRIPTION:SATURDAY\, November 1\, 2025 \nJoin us for a performance by the Robert Rauch Band \n2:00 to 6:00 pm
URL:https://ultimatevineyards.com/event/robert-rauch-band-4/
LOCATION:Ultimate Vineyards @ Maurice Carrie Winery\, 34225 Rancho California Rd\, Temecula\, CA\, 92591\, United States
CATEGORIES:Free,Live Music
ATTACH;FMTTYPE=image/png:https://ultimatevineyards.com/wp-content/uploads/2025/07/Robert-Rauch-10.png
END:VEVENT
BEGIN:VEVENT
DTSTART;TZID=America/Los_Angeles:20251031T160000
DTEND;TZID=America/Los_Angeles:20251031T180000
DTSTAMP:20260421T031755
CREATED:20251003T173345Z
LAST-MODIFIED:20251003T192528Z
UID:14909-1761926400-1761933600@ultimatevineyards.com
SUMMARY:Closing at 6 pm
DESCRIPTION:We are closing at 6 pm on Halloween\, and we will resume our late-night Fridays with Rene Latin Soul on November 7th.
URL:https://ultimatevineyards.com/event/friday-night-live-music-12/
LOCATION:Ultimate Vineyards @ Maurice Carrie Winery\, 34225 Rancho California Rd\, Temecula\, CA\, 92591\, United States
CATEGORIES:Free,Live Music
ATTACH;FMTTYPE=image/jpeg:https://ultimatevineyards.com/wp-content/uploads/2025/10/qtq80-3zPCGz.jpeg
END:VEVENT
BEGIN:VEVENT
DTSTART;TZID=America/Los_Angeles:20251029T080000
DTEND;TZID=America/Los_Angeles:20251029T170000
DTSTAMP:20260421T031755
CREATED:20250723T213522Z
LAST-MODIFIED:20250723T213522Z
UID:14588-1761724800-1761757200@ultimatevineyards.com
SUMMARY:Wine Down Wednesdays
DESCRIPTION:Enjoy 50 % off select bottle purchases every Wednesday. \n 
URL:https://ultimatevineyards.com/event/wine-down-wednesdays-15/
LOCATION:Ultimate Vineyards @ Maurice Carrie Winery\, 34225 Rancho California Rd\, Temecula\, CA\, 92591\, United States
CATEGORIES:Weekly Specials
ATTACH;FMTTYPE=image/png:https://ultimatevineyards.com/wp-content/uploads/2025/07/Select-Bottles.png
END:VEVENT
BEGIN:VEVENT
DTSTART;TZID=America/Los_Angeles:20251028T110000
DTEND;TZID=America/Los_Angeles:20251028T170000
DTSTAMP:20260421T031755
CREATED:20250723T193959Z
LAST-MODIFIED:20250723T193959Z
UID:14527-1761649200-1761670800@ultimatevineyards.com
SUMMARY:2-for-1 Tastings Tuesday
DESCRIPTION:Bring a friend and enjoy our 2-for-1 tastings every Tuesday
URL:https://ultimatevineyards.com/event/2-for-1-tastings-tuesday-12/
LOCATION:Ultimate Vineyards @ Maurice Carrie Winery\, 34225 Rancho California Rd\, Temecula\, CA\, 92591\, United States
CATEGORIES:Weekly Specials
ATTACH;FMTTYPE=image/png:https://ultimatevineyards.com/wp-content/uploads/2025/07/Thursday-4.pdf-1.png
END:VEVENT
BEGIN:VEVENT
DTSTART;VALUE=DATE:20251027
DTEND;VALUE=DATE:20251028
DTSTAMP:20260421T031755
CREATED:20250710T221228Z
LAST-MODIFIED:20250710T221228Z
UID:14426-1761523200-1761609599@ultimatevineyards.com
SUMMARY:Monday Special
DESCRIPTION:$7 glasses of wine on select bottles of red\, white\, & rose wine every Monday! \n 
URL:https://ultimatevineyards.com/event/monday-special-15/
LOCATION:Ultimate Vineyards @ Maurice Carrie Winery\, 34225 Rancho California Rd\, Temecula\, CA\, 92591\, United States
ATTACH;FMTTYPE=image/png:https://ultimatevineyards.com/wp-content/uploads/2025/07/Add-a-heading.png
END:VEVENT
BEGIN:VEVENT
DTSTART;TZID=America/Los_Angeles:20251026T120000
DTEND;TZID=America/Los_Angeles:20251026T160000
DTSTAMP:20260421T031755
CREATED:20250327T180400Z
LAST-MODIFIED:20250707T233941Z
UID:13335-1761480000-1761494400@ultimatevineyards.com
SUMMARY:Kole Weber
DESCRIPTION:Live Music  Sunday October 26\, 2025 \n12pm to 4pm \nJoin us for live music by Kole Weber\, a talented saxophonist who plays a wide variety of music including jazz\, pop\, R&B\, Latin\, and rock. \n  \n 
URL:https://ultimatevineyards.com/event/kole-weber-5/
LOCATION:Ultimate Vineyards @ Maurice Carrie Winery\, 34225 Rancho California Rd\, Temecula\, CA\, 92591\, United States
CATEGORIES:Free,Live Music
ATTACH;FMTTYPE=image/png:https://ultimatevineyards.com/wp-content/uploads/2025/02/KOLE-WEBER-1.png
END:VEVENT
BEGIN:VEVENT
DTSTART;TZID=America/Los_Angeles:20251025T140000
DTEND;TZID=America/Los_Angeles:20251025T180000
DTSTAMP:20260421T031755
CREATED:20250707T225723Z
LAST-MODIFIED:20250707T235102Z
UID:14330-1761400800-1761415200@ultimatevineyards.com
SUMMARY:DJ NOAH & KOLE WEBER
DESCRIPTION:DJ Noah \nGather your friends\, savor delicious food and wine\, and dance to live DJ music! \nSaturday\, October 25th from 2:00 to 6:00 pm
URL:https://ultimatevineyards.com/event/dj-noah-kole-weber-2/
LOCATION:Ultimate Vineyards @ Maurice Carrie Winery\, 34225 Rancho California Rd\, Temecula\, CA\, 92591\, United States
CATEGORIES:Free
ATTACH;FMTTYPE=image/png:https://ultimatevineyards.com/wp-content/uploads/2025/07/DJ-Noah-4.png
END:VEVENT
BEGIN:VEVENT
DTSTART;TZID=America/Los_Angeles:20251024T160000
DTEND;TZID=America/Los_Angeles:20251024T200000
DTSTAMP:20260421T031755
CREATED:20251003T172928Z
LAST-MODIFIED:20251003T172928Z
UID:14906-1761321600-1761336000@ultimatevineyards.com
SUMMARY:Friday Night Live Music
DESCRIPTION:Fridays from 4:00 to 8:00 pm\, immerse yourself in the vibrant sounds of Rene Latin Soul as you sway and dance the night away. Indulge in delicious food and wine while soaking up the casual and welcoming atmosphere that makes our winery a beloved destination. Our bistro and tasting room will be open until 8:00 pm.
URL:https://ultimatevineyards.com/event/friday-night-live-music-11/
LOCATION:Ultimate Vineyards @ Maurice Carrie Winery\, 34225 Rancho California Rd\, Temecula\, CA\, 92591\, United States
CATEGORIES:Free,Live Music
ATTACH;FMTTYPE=image/png:https://ultimatevineyards.com/wp-content/uploads/2025/08/LATIN-MUSIC-1.png
END:VEVENT
BEGIN:VEVENT
DTSTART;TZID=America/Los_Angeles:20251022T080000
DTEND;TZID=America/Los_Angeles:20251022T170000
DTSTAMP:20260421T031755
CREATED:20250723T213323Z
LAST-MODIFIED:20250723T213323Z
UID:14587-1761120000-1761152400@ultimatevineyards.com
SUMMARY:Wine Down Wednesdays
DESCRIPTION:Enjoy 50 % off select bottle purchases every Wednesday. \n 
URL:https://ultimatevineyards.com/event/wine-down-wednesdays-14/
LOCATION:Ultimate Vineyards @ Maurice Carrie Winery\, 34225 Rancho California Rd\, Temecula\, CA\, 92591\, United States
CATEGORIES:Weekly Specials
ATTACH;FMTTYPE=image/png:https://ultimatevineyards.com/wp-content/uploads/2025/07/Select-Bottles.png
END:VEVENT
BEGIN:VEVENT
DTSTART;TZID=America/Los_Angeles:20251021T110000
DTEND;TZID=America/Los_Angeles:20251021T170000
DTSTAMP:20260421T031755
CREATED:20250723T193836Z
LAST-MODIFIED:20250723T193856Z
UID:14526-1761044400-1761066000@ultimatevineyards.com
SUMMARY:2-for-1 Tastings Tuesday
DESCRIPTION:Bring a friend and enjoy our 2-for-1 tastings every Tuesday
URL:https://ultimatevineyards.com/event/2-for-1-tastings-tuesday-11/
LOCATION:Ultimate Vineyards @ Maurice Carrie Winery\, 34225 Rancho California Rd\, Temecula\, CA\, 92591\, United States
CATEGORIES:Weekly Specials
ATTACH;FMTTYPE=image/png:https://ultimatevineyards.com/wp-content/uploads/2025/07/Thursday-4.pdf-1.png
END:VEVENT
BEGIN:VEVENT
DTSTART;VALUE=DATE:20251020
DTEND;VALUE=DATE:20251021
DTSTAMP:20260421T031755
CREATED:20250710T221151Z
LAST-MODIFIED:20250710T221151Z
UID:14425-1760918400-1761004799@ultimatevineyards.com
SUMMARY:Monday Special
DESCRIPTION:$7 glasses of wine on select bottles of red\, white\, & rose wine every Monday! \n 
URL:https://ultimatevineyards.com/event/monday-special-14/
LOCATION:Ultimate Vineyards @ Maurice Carrie Winery\, 34225 Rancho California Rd\, Temecula\, CA\, 92591\, United States
ATTACH;FMTTYPE=image/png:https://ultimatevineyards.com/wp-content/uploads/2025/07/Add-a-heading.png
END:VEVENT
END:VCALENDAR