BEGIN:VCALENDAR
VERSION:2.0
PRODID:-//Maurice Car’rie Vineyard &amp; Winery - ECPv6.15.20//NONSGML v1.0//EN
CALSCALE:GREGORIAN
METHOD:PUBLISH
X-ORIGINAL-URL:https://ultimatevineyards.com
X-WR-CALDESC:Events for Maurice Car’rie Vineyard &amp; Winery
REFRESH-INTERVAL;VALUE=DURATION:PT1H
X-Robots-Tag:noindex
X-PUBLISHED-TTL:PT1H
BEGIN:VTIMEZONE
TZID:America/Los_Angeles
BEGIN:DAYLIGHT
TZOFFSETFROM:-0800
TZOFFSETTO:-0700
TZNAME:PDT
DTSTART:20240310T100000
END:DAYLIGHT
BEGIN:STANDARD
TZOFFSETFROM:-0700
TZOFFSETTO:-0800
TZNAME:PST
DTSTART:20241103T090000
END:STANDARD
BEGIN:DAYLIGHT
TZOFFSETFROM:-0800
TZOFFSETTO:-0700
TZNAME:PDT
DTSTART:20250309T100000
END:DAYLIGHT
BEGIN:STANDARD
TZOFFSETFROM:-0700
TZOFFSETTO:-0800
TZNAME:PST
DTSTART:20251102T090000
END:STANDARD
BEGIN:DAYLIGHT
TZOFFSETFROM:-0800
TZOFFSETTO:-0700
TZNAME:PDT
DTSTART:20260308T100000
END:DAYLIGHT
BEGIN:STANDARD
TZOFFSETFROM:-0700
TZOFFSETTO:-0800
TZNAME:PST
DTSTART:20261101T090000
END:STANDARD
END:VTIMEZONE
BEGIN:VEVENT
DTSTART;TZID=America/Los_Angeles:20250629T150000
DTEND;TZID=America/Los_Angeles:20250629T200000
DTSTAMP:20260422T014125
CREATED:20230119T213334Z
LAST-MODIFIED:20250616T204502Z
UID:11706-1751209200-1751227200@ultimatevineyards.com
SUMMARY:White Attire Day Party & Brunch
DESCRIPTION:Kick off the summer with R&B/Jazz with a live performance by Oscar Snow and DJ music! \nJune 29th from 3 to 8 pm \nEarly Birds – $40 \nVIP – $65 (includes Brunch and premium seating) \nTo purchase tickets or more information Call Vic Camp Events at 951-251-3250 \nClick here to purchase tickets
URL:https://ultimatevineyards.com/event/white-attire-day-party/
LOCATION:Ultimate Vineyards @ Maurice Carrie Winery\, 34225 Rancho California Rd\, Temecula\, CA\, 92591\, United States
ATTACH;FMTTYPE=image/png:https://ultimatevineyards.com/wp-content/uploads/2023/01/White-Party.png
END:VEVENT
END:VCALENDAR