BEGIN:VCALENDAR
VERSION:2.0
PRODID:-//Maurice Car’rie Vineyard &amp; Winery - ECPv6.15.20//NONSGML v1.0//EN
CALSCALE:GREGORIAN
METHOD:PUBLISH
X-WR-CALNAME:Maurice Car’rie Vineyard &amp; Winery
X-ORIGINAL-URL:https://ultimatevineyards.com
X-WR-CALDESC:Events for Maurice Car’rie Vineyard &amp; Winery
REFRESH-INTERVAL;VALUE=DURATION:PT1H
X-Robots-Tag:noindex
X-PUBLISHED-TTL:PT1H
BEGIN:VTIMEZONE
TZID:America/Los_Angeles
BEGIN:DAYLIGHT
TZOFFSETFROM:-0800
TZOFFSETTO:-0700
TZNAME:PDT
DTSTART:20240310T100000
END:DAYLIGHT
BEGIN:STANDARD
TZOFFSETFROM:-0700
TZOFFSETTO:-0800
TZNAME:PST
DTSTART:20241103T090000
END:STANDARD
BEGIN:DAYLIGHT
TZOFFSETFROM:-0800
TZOFFSETTO:-0700
TZNAME:PDT
DTSTART:20250309T100000
END:DAYLIGHT
BEGIN:STANDARD
TZOFFSETFROM:-0700
TZOFFSETTO:-0800
TZNAME:PST
DTSTART:20251102T090000
END:STANDARD
BEGIN:DAYLIGHT
TZOFFSETFROM:-0800
TZOFFSETTO:-0700
TZNAME:PDT
DTSTART:20260308T100000
END:DAYLIGHT
BEGIN:STANDARD
TZOFFSETFROM:-0700
TZOFFSETTO:-0800
TZNAME:PST
DTSTART:20261101T090000
END:STANDARD
END:VTIMEZONE
BEGIN:VEVENT
DTSTART;TZID=America/Los_Angeles:20250920T180000
DTEND;TZID=America/Los_Angeles:20250920T210000
DTSTAMP:20260421T191733
CREATED:20250806T223518Z
LAST-MODIFIED:20250807T000417Z
UID:14689-1758391200-1758402000@ultimatevineyards.com
SUMMARY:Ultimate Grape Stomp Harvest Party
DESCRIPTION:Join Us for the Ultimate Grape Stomp Harvest Party! \nUltimate Vineyards at Maurice Car’rie Winery is excited to continue the cherished tradition of kicking off your shoes\, rolling up your pant legs\, and delighting in the experience of squishing countless blessed grapes beneath your feet! Come participate in our annual Grape Stomp Harvest Party\, where you can enjoy an evening filled with: \n\nMusic\nExquisite wine\nDelicious food available for purchase from our bistro\nEngaging activities for all ages\n\nCelebrate with us! \nTicket Information: \n\nWine Club Members receive: $5 off\nAdmission & Stomp: $50\nAdmission Only: $30\n\nAll tickets include a welcome glass of Cuvee! \n 
URL:https://ultimatevineyards.com/event/ultimate-grape-stomp-harvest-party/
LOCATION:Ultimate Vineyards @ Maurice Carrie Winery\, 34225 Rancho California Rd\, Temecula\, CA\, 92591\, United States
CATEGORIES:Winery Event
ATTACH;FMTTYPE=image/png:https://ultimatevineyards.com/wp-content/uploads/2025/08/Grape-Stomp-Harvest-Party-9.png
END:VEVENT
END:VCALENDAR