BEGIN:VCALENDAR
VERSION:2.0
PRODID:-//Maurice Car’rie Vineyard &amp; Winery - ECPv6.15.20//NONSGML v1.0//EN
CALSCALE:GREGORIAN
METHOD:PUBLISH
X-WR-CALNAME:Maurice Car’rie Vineyard &amp; Winery
X-ORIGINAL-URL:https://ultimatevineyards.com
X-WR-CALDESC:Events for Maurice Car’rie Vineyard &amp; Winery
REFRESH-INTERVAL;VALUE=DURATION:PT1H
X-Robots-Tag:noindex
X-PUBLISHED-TTL:PT1H
BEGIN:VTIMEZONE
TZID:America/Los_Angeles
BEGIN:DAYLIGHT
TZOFFSETFROM:-0800
TZOFFSETTO:-0700
TZNAME:PDT
DTSTART:20240310T100000
END:DAYLIGHT
BEGIN:STANDARD
TZOFFSETFROM:-0700
TZOFFSETTO:-0800
TZNAME:PST
DTSTART:20241103T090000
END:STANDARD
BEGIN:DAYLIGHT
TZOFFSETFROM:-0800
TZOFFSETTO:-0700
TZNAME:PDT
DTSTART:20250309T100000
END:DAYLIGHT
BEGIN:STANDARD
TZOFFSETFROM:-0700
TZOFFSETTO:-0800
TZNAME:PST
DTSTART:20251102T090000
END:STANDARD
BEGIN:DAYLIGHT
TZOFFSETFROM:-0800
TZOFFSETTO:-0700
TZNAME:PDT
DTSTART:20260308T100000
END:DAYLIGHT
BEGIN:STANDARD
TZOFFSETFROM:-0700
TZOFFSETTO:-0800
TZNAME:PST
DTSTART:20261101T090000
END:STANDARD
END:VTIMEZONE
BEGIN:VEVENT
DTSTART;VALUE=DATE:20251201
DTEND;VALUE=DATE:20251202
DTSTAMP:20260425T064211
CREATED:20250710T222700Z
LAST-MODIFIED:20250710T222730Z
UID:14439-1764547200-1764633599@ultimatevineyards.com
SUMMARY:Monday Special
DESCRIPTION:$7 glasses of wine on select bottles of red\, white\, & rose wine every Monday! \n 
URL:https://ultimatevineyards.com/event/monday-special-20/
LOCATION:Ultimate Vineyards @ Maurice Carrie Winery\, 34225 Rancho California Rd\, Temecula\, CA\, 92591\, United States
ATTACH;FMTTYPE=image/png:https://ultimatevineyards.com/wp-content/uploads/2025/07/Add-a-heading.png
END:VEVENT
BEGIN:VEVENT
DTSTART;TZID=America/Los_Angeles:20251205T160000
DTEND;TZID=America/Los_Angeles:20251205T200000
DTSTAMP:20260425T064211
CREATED:20251003T174009Z
LAST-MODIFIED:20251003T175827Z
UID:14915-1764950400-1764964800@ultimatevineyards.com
SUMMARY:Friday Night Live Music
DESCRIPTION:Fridays from 4:00 to 8:00 pm\, immerse yourself in the vibrant sounds of Rene Latin Soul as you sway and dance the night away. Indulge in delicious food and wine while soaking up the casual and welcoming atmosphere that makes our winery a beloved destination. Our restaurant will be open until 8:00 pm\, and the winery will keep the good vibes flowing until 8:00 pm.
URL:https://ultimatevineyards.com/event/friday-night-live-music-15/
LOCATION:Ultimate Vineyards @ Maurice Carrie Winery\, 34225 Rancho California Rd\, Temecula\, CA\, 92591\, United States
CATEGORIES:Free,Live Music
ATTACH;FMTTYPE=image/png:https://ultimatevineyards.com/wp-content/uploads/2025/07/Live-Music-2.png
END:VEVENT
BEGIN:VEVENT
DTSTART;VALUE=DATE:20251208
DTEND;VALUE=DATE:20251209
DTSTAMP:20260425T064211
CREATED:20250710T222935Z
LAST-MODIFIED:20250710T222935Z
UID:14440-1765152000-1765238399@ultimatevineyards.com
SUMMARY:Monday Special
DESCRIPTION:$7 glasses of wine on select bottles of red\, white\, & rose wine every Monday! \n 
URL:https://ultimatevineyards.com/event/monday-special-21/
LOCATION:Ultimate Vineyards @ Maurice Carrie Winery\, 34225 Rancho California Rd\, Temecula\, CA\, 92591\, United States
ATTACH;FMTTYPE=image/png:https://ultimatevineyards.com/wp-content/uploads/2025/07/Add-a-heading.png
END:VEVENT
BEGIN:VEVENT
DTSTART;TZID=America/Los_Angeles:20251209T110000
DTEND;TZID=America/Los_Angeles:20251209T170000
DTSTAMP:20260425T064211
CREATED:20250723T194624Z
LAST-MODIFIED:20250723T194725Z
UID:14540-1765278000-1765299600@ultimatevineyards.com
SUMMARY:2-for-1 Tastings Tuesday
DESCRIPTION:Bring a friend and enjoy our 2-for-1 tastings every Tuesday
URL:https://ultimatevineyards.com/event/2-for-1-tastings-tuesday-17/
LOCATION:Ultimate Vineyards @ Maurice Carrie Winery\, 34225 Rancho California Rd\, Temecula\, CA\, 92591\, United States
CATEGORIES:Weekly Specials
ATTACH;FMTTYPE=image/png:https://ultimatevineyards.com/wp-content/uploads/2025/07/Thursday-4.pdf-1.png
END:VEVENT
BEGIN:VEVENT
DTSTART;TZID=America/Los_Angeles:20251212T160000
DTEND;TZID=America/Los_Angeles:20251212T200000
DTSTAMP:20260425T064211
CREATED:20250701T223914Z
LAST-MODIFIED:20251003T175059Z
UID:14318-1765555200-1765569600@ultimatevineyards.com
SUMMARY:Friday Night Live Music
DESCRIPTION:Fridays from 4:00 to 8:00 pm\, immerse yourself in the vibrant sounds of Rene Latin Soul as you sway and dance the night away. Indulge in delicious food and wine while soaking up the casual and welcoming atmosphere that makes our winery a beloved destination. Our restaurant will be open until 8:00 pm\, and the winery will keep the good vibes flowing until 8:00 pm.
URL:https://ultimatevineyards.com/event/friday-night-live-music-8/
LOCATION:Ultimate Vineyards @ Maurice Carrie Winery\, 34225 Rancho California Rd\, Temecula\, CA\, 92591\, United States
CATEGORIES:Free,Live Music
ATTACH;FMTTYPE=image/png:https://ultimatevineyards.com/wp-content/uploads/2025/07/Live-Music-2.png
END:VEVENT
BEGIN:VEVENT
DTSTART;VALUE=DATE:20251215
DTEND;VALUE=DATE:20251216
DTSTAMP:20260425T064211
CREATED:20250710T223448Z
LAST-MODIFIED:20250710T223448Z
UID:14441-1765756800-1765843199@ultimatevineyards.com
SUMMARY:Monday Special
DESCRIPTION:$7 glasses of wine on select bottles of red\, white\, & rose wine every Monday! \n 
URL:https://ultimatevineyards.com/event/monday-special-22/
LOCATION:Ultimate Vineyards @ Maurice Carrie Winery\, 34225 Rancho California Rd\, Temecula\, CA\, 92591\, United States
ATTACH;FMTTYPE=image/png:https://ultimatevineyards.com/wp-content/uploads/2025/07/Add-a-heading.png
END:VEVENT
BEGIN:VEVENT
DTSTART;TZID=America/Los_Angeles:20251216T110000
DTEND;TZID=America/Los_Angeles:20251216T170000
DTSTAMP:20260425T064211
CREATED:20250723T194812Z
LAST-MODIFIED:20251216T233924Z
UID:14541-1765882800-1765904400@ultimatevineyards.com
SUMMARY:2-for-1 Tastings Tuesday
DESCRIPTION:Bring a friend and enjoy our 2-for-1 tastings every Tuesday
URL:https://ultimatevineyards.com/event/2-for-1-tastings-tuesday-18/
LOCATION:Ultimate Vineyards @ Maurice Carrie Winery\, 34225 Rancho California Rd\, Temecula\, CA\, 92591\, United States
CATEGORIES:Weekly Specials
ATTACH;FMTTYPE=image/png:https://ultimatevineyards.com/wp-content/uploads/2025/12/Tuesday-Special-Post-1.png
END:VEVENT
BEGIN:VEVENT
DTSTART;TZID=America/Los_Angeles:20251219T160000
DTEND;TZID=America/Los_Angeles:20251219T200000
DTSTAMP:20260425T064211
CREATED:20251003T175510Z
LAST-MODIFIED:20251215T224751Z
UID:14921-1766160000-1766174400@ultimatevineyards.com
SUMMARY:Friday Night Live Music
DESCRIPTION:Fridays from 4:00 to 8:00 pm\, immerse yourself in the vibrant sounds of Rene Latin Soul as you sway and dance the night away. Indulge in delicious food and wine while soaking up the casual and welcoming atmosphere that makes our winery a beloved destination. Our bistro and tasting room will be open until 8:00 pm.
URL:https://ultimatevineyards.com/event/friday-night-live-music-19/
LOCATION:Ultimate Vineyards @ Maurice Carrie Winery\, 34225 Rancho California Rd\, Temecula\, CA\, 92591\, United States
CATEGORIES:Free,Live Music
ATTACH;FMTTYPE=image/png:https://ultimatevineyards.com/wp-content/uploads/2025/12/Friday-Night-Latin.png
END:VEVENT
BEGIN:VEVENT
DTSTART;VALUE=DATE:20251222
DTEND;VALUE=DATE:20251223
DTSTAMP:20260425T064211
CREATED:20250710T223523Z
LAST-MODIFIED:20251223T232352Z
UID:14442-1766361600-1766447999@ultimatevineyards.com
SUMMARY:Monday Special
DESCRIPTION:$7 glasses of wine on select bottles of red\, white\, & rose wine every Monday! \n 
URL:https://ultimatevineyards.com/event/monday-special-23/
LOCATION:Ultimate Vineyards @ Maurice Carrie Winery\, 34225 Rancho California Rd\, Temecula\, CA\, 92591\, United States
ATTACH;FMTTYPE=image/jpeg:https://ultimatevineyards.com/wp-content/uploads/2025/07/Monday-Special-Post-2.jpg
END:VEVENT
BEGIN:VEVENT
DTSTART;TZID=America/Los_Angeles:20251223T110000
DTEND;TZID=America/Los_Angeles:20251223T170000
DTSTAMP:20260425T064211
CREATED:20250723T194858Z
LAST-MODIFIED:20251216T225924Z
UID:14542-1766487600-1766509200@ultimatevineyards.com
SUMMARY:2-for-1 Tastings Tuesday
DESCRIPTION:Bring a friend and enjoy our 2-for-1 tastings every Tuesday
URL:https://ultimatevineyards.com/event/2-for-1-tastings-tuesday-19/
LOCATION:Ultimate Vineyards @ Maurice Carrie Winery\, 34225 Rancho California Rd\, Temecula\, CA\, 92591\, United States
CATEGORIES:Weekly Specials
ATTACH;FMTTYPE=image/png:https://ultimatevineyards.com/wp-content/uploads/2025/12/Tuesday-Special-Post-1.png
END:VEVENT
BEGIN:VEVENT
DTSTART;TZID=America/Los_Angeles:20251226T160000
DTEND;TZID=America/Los_Angeles:20251226T200000
DTSTAMP:20260425T064211
CREATED:20251003T175341Z
LAST-MODIFIED:20251223T232222Z
UID:14923-1766764800-1766779200@ultimatevineyards.com
SUMMARY:Friday Night Live Music
DESCRIPTION:Keep the Holiday Cheer Going\nThe Christmas rush is over — now it’s time to relax and celebrate. \nJoin us for live music by Rene Latin Soul\, great wine\, and cozy vibes in our barrel room — the perfect place to escape the rain. \nBring friends\, sip your favorites\, and unwind with us. \nHoliday Wine Club Specials\n• New members save 50% off their first shipment\n• Members: Refer a friend and receive a bottle for just a penny when they make their first purchase \nOur restaurant will be open until 8:00 pm\, and the winery will keep the good vibes flowing until 8:00 pm.
URL:https://ultimatevineyards.com/event/friday-night-live-music-18/
LOCATION:Ultimate Vineyards @ Maurice Carrie Winery\, 34225 Rancho California Rd\, Temecula\, CA\, 92591\, United States
CATEGORIES:Free,Live Music
ATTACH;FMTTYPE=image/png:https://ultimatevineyards.com/wp-content/uploads/2025/07/Friday-Night-Latin-2.png
END:VEVENT
BEGIN:VEVENT
DTSTART;TZID=America/Los_Angeles:20251227T133000
DTEND;TZID=America/Los_Angeles:20251227T173000
DTSTAMP:20260425T064211
CREATED:20250708T192823Z
LAST-MODIFIED:20251211T200140Z
UID:14386-1766842200-1766856600@ultimatevineyards.com
SUMMARY:ROSE LINE BAND
DESCRIPTION:Live performance by Rose Line Band \nDecember 27th 1:30 to 5:30 pm \nJoin us at Maurice Carrie Winery for an unforgettable evening filled with live music by Temecula’ own Rose Line Band.
URL:https://ultimatevineyards.com/event/xsyndicate/
LOCATION:Ultimate Vineyards @ Maurice Carrie Winery\, 34225 Rancho California Rd\, Temecula\, CA\, 92591\, United States
CATEGORIES:Free,Live Music
ATTACH;FMTTYPE=image/jpeg:https://ultimatevineyards.com/wp-content/uploads/2025/12/1.jpg
END:VEVENT
BEGIN:VEVENT
DTSTART;VALUE=DATE:20251229
DTEND;VALUE=DATE:20251230
DTSTAMP:20260425T064211
CREATED:20250710T223622Z
LAST-MODIFIED:20251223T233152Z
UID:14443-1766966400-1767052799@ultimatevineyards.com
SUMMARY:Monday Special
DESCRIPTION:$7 glasses of wine on select bottles of red\, white\, & rose wine every Monday! \n 
URL:https://ultimatevineyards.com/event/monday-special-24/
LOCATION:Ultimate Vineyards @ Maurice Carrie Winery\, 34225 Rancho California Rd\, Temecula\, CA\, 92591\, United States
ATTACH;FMTTYPE=image/jpeg:https://ultimatevineyards.com/wp-content/uploads/2025/07/Monday-Special-Post-2.jpg
END:VEVENT
BEGIN:VEVENT
DTSTART;TZID=America/Los_Angeles:20251230T110000
DTEND;TZID=America/Los_Angeles:20251230T170000
DTSTAMP:20260425T064211
CREATED:20250723T195010Z
LAST-MODIFIED:20251216T234305Z
UID:14539-1767092400-1767114000@ultimatevineyards.com
SUMMARY:2-for-1 Tastings Tuesday
DESCRIPTION:Bring a friend and enjoy our 2-for-1 tastings every Tuesday
URL:https://ultimatevineyards.com/event/2-for-1-tastings-tuesday-20/
LOCATION:Ultimate Vineyards @ Maurice Carrie Winery\, 34225 Rancho California Rd\, Temecula\, CA\, 92591\, United States
CATEGORIES:Weekly Specials
ATTACH;FMTTYPE=image/png:https://ultimatevineyards.com/wp-content/uploads/2025/12/Tuesday-Special-Post-1.png
END:VEVENT
END:VCALENDAR