BEGIN:VCALENDAR
VERSION:2.0
PRODID:-//Maurice Car’rie Vineyard &amp; Winery - ECPv6.15.20//NONSGML v1.0//EN
CALSCALE:GREGORIAN
METHOD:PUBLISH
X-ORIGINAL-URL:https://ultimatevineyards.com
X-WR-CALDESC:Events for Maurice Car’rie Vineyard &amp; Winery
REFRESH-INTERVAL;VALUE=DURATION:PT1H
X-Robots-Tag:noindex
X-PUBLISHED-TTL:PT1H
BEGIN:VTIMEZONE
TZID:America/Los_Angeles
BEGIN:DAYLIGHT
TZOFFSETFROM:-0800
TZOFFSETTO:-0700
TZNAME:PDT
DTSTART:20250309T100000
END:DAYLIGHT
BEGIN:STANDARD
TZOFFSETFROM:-0700
TZOFFSETTO:-0800
TZNAME:PST
DTSTART:20251102T090000
END:STANDARD
BEGIN:DAYLIGHT
TZOFFSETFROM:-0800
TZOFFSETTO:-0700
TZNAME:PDT
DTSTART:20260308T100000
END:DAYLIGHT
BEGIN:STANDARD
TZOFFSETFROM:-0700
TZOFFSETTO:-0800
TZNAME:PST
DTSTART:20261101T090000
END:STANDARD
BEGIN:DAYLIGHT
TZOFFSETFROM:-0800
TZOFFSETTO:-0700
TZNAME:PDT
DTSTART:20270314T100000
END:DAYLIGHT
BEGIN:STANDARD
TZOFFSETFROM:-0700
TZOFFSETTO:-0800
TZNAME:PST
DTSTART:20271107T090000
END:STANDARD
END:VTIMEZONE
BEGIN:VEVENT
DTSTART;TZID=America/Los_Angeles:20260102T160000
DTEND;TZID=America/Los_Angeles:20260102T200000
DTSTAMP:20260421T070407
CREATED:20251208T230447Z
LAST-MODIFIED:20251215T225042Z
UID:14967-1767369600-1767384000@ultimatevineyards.com
SUMMARY:Friday Night Live Music
DESCRIPTION:Fridays from 4:00 to 8:00 pm\, immerse yourself in the vibrant sounds of Rene Latin Soul as you sway and dance the night away. Indulge in delicious food and wine while soaking up the casual and welcoming atmosphere that makes our winery a beloved destination. Our bistro and tasting room will be open until 8:00 pm.
URL:https://ultimatevineyards.com/event/friday-night-live-music-20/
LOCATION:Ultimate Vineyards @ Maurice Carrie Winery\, 34225 Rancho California Rd\, Temecula\, CA\, 92591\, United States
CATEGORIES:Free,Live Music
ATTACH;FMTTYPE=image/png:https://ultimatevineyards.com/wp-content/uploads/2025/12/Friday-Night-Latin.png
END:VEVENT
BEGIN:VEVENT
DTSTART;VALUE=DATE:20260105
DTEND;VALUE=DATE:20260106
DTSTAMP:20260421T070407
CREATED:20251208T230557Z
LAST-MODIFIED:20251223T232554Z
UID:14969-1767571200-1767657599@ultimatevineyards.com
SUMMARY:Monday Special
DESCRIPTION:$7 glasses of wine on select bottles of red\, white\, & rose wine every Monday! \n 
URL:https://ultimatevineyards.com/event/monday-special-26/
LOCATION:Ultimate Vineyards @ Maurice Carrie Winery\, 34225 Rancho California Rd\, Temecula\, CA\, 92591\, United States
ATTACH;FMTTYPE=image/jpeg:https://ultimatevineyards.com/wp-content/uploads/2025/07/Monday-Special-Post-2.jpg
END:VEVENT
BEGIN:VEVENT
DTSTART;TZID=America/Los_Angeles:20260106T110000
DTEND;TZID=America/Los_Angeles:20260106T170000
DTSTAMP:20260421T070407
CREATED:20251208T225341Z
LAST-MODIFIED:20251216T221447Z
UID:14961-1767697200-1767718800@ultimatevineyards.com
SUMMARY:2-for-1 Tastings Tuesday
DESCRIPTION:Bring a friend and enjoy our 2-for-1 tastings every Tuesday
URL:https://ultimatevineyards.com/event/2-for-1-tastings-tuesday-22/
LOCATION:Ultimate Vineyards @ Maurice Carrie Winery\, 34225 Rancho California Rd\, Temecula\, CA\, 92591\, United States
CATEGORIES:Weekly Specials
ATTACH;FMTTYPE=image/png:https://ultimatevineyards.com/wp-content/uploads/2025/12/Tuesday-Special-Post-1.png
END:VEVENT
BEGIN:VEVENT
DTSTART;TZID=America/Los_Angeles:20260109T160000
DTEND;TZID=America/Los_Angeles:20260109T200000
DTSTAMP:20260421T070407
CREATED:20251208T232325Z
LAST-MODIFIED:20251216T222249Z
UID:14978-1767974400-1767988800@ultimatevineyards.com
SUMMARY:Friday Night Live Music
DESCRIPTION:Fridays from 4:00 to 8:00 pm\, immerse yourself in the vibrant sounds of Rene Latin Soul as you sway and dance the night away. Indulge in delicious food and wine while soaking up the casual and welcoming atmosphere that makes our winery a beloved destination. Our bistro and tasting room will be open until 8:00 pm.
URL:https://ultimatevineyards.com/event/friday-night-live-music-21/
LOCATION:Ultimate Vineyards @ Maurice Carrie Winery\, 34225 Rancho California Rd\, Temecula\, CA\, 92591\, United States
CATEGORIES:Free,Live Music
ATTACH;FMTTYPE=image/png:https://ultimatevineyards.com/wp-content/uploads/2025/12/Friday-Night-Latin.png
END:VEVENT
BEGIN:VEVENT
DTSTART;VALUE=DATE:20260112
DTEND;VALUE=DATE:20260113
DTSTAMP:20260421T070407
CREATED:20251208T230640Z
LAST-MODIFIED:20251223T233658Z
UID:14971-1768176000-1768262399@ultimatevineyards.com
SUMMARY:Monday Special
DESCRIPTION:$7 glasses of wine on select bottles of red\, white\, & rose wine every Monday! \n 
URL:https://ultimatevineyards.com/event/monday-special-27/
LOCATION:Ultimate Vineyards @ Maurice Carrie Winery\, 34225 Rancho California Rd\, Temecula\, CA\, 92591\, United States
ATTACH;FMTTYPE=image/jpeg:https://ultimatevineyards.com/wp-content/uploads/2025/07/Monday-Special-Post-2.jpg
END:VEVENT
BEGIN:VEVENT
DTSTART;TZID=America/Los_Angeles:20260113T110000
DTEND;TZID=America/Los_Angeles:20260113T170000
DTSTAMP:20260421T070407
CREATED:20251208T232855Z
LAST-MODIFIED:20251216T221921Z
UID:14988-1768302000-1768323600@ultimatevineyards.com
SUMMARY:2-for-1 Tastings Tuesday
DESCRIPTION:Bring a friend and enjoy our 2-for-1 tastings every Tuesday
URL:https://ultimatevineyards.com/event/2-for-1-tastings-tuesday-23/
LOCATION:Ultimate Vineyards @ Maurice Carrie Winery\, 34225 Rancho California Rd\, Temecula\, CA\, 92591\, United States
CATEGORIES:Weekly Specials
ATTACH;FMTTYPE=image/png:https://ultimatevineyards.com/wp-content/uploads/2025/12/Tuesday-Special-Post-1.png
END:VEVENT
BEGIN:VEVENT
DTSTART;TZID=America/Los_Angeles:20260116T160000
DTEND;TZID=America/Los_Angeles:20260116T200000
DTSTAMP:20260421T070407
CREATED:20251208T232402Z
LAST-MODIFIED:20251215T224444Z
UID:14980-1768579200-1768593600@ultimatevineyards.com
SUMMARY:Friday Night Live Music
DESCRIPTION:Fridays from 4:00 to 8:00 pm\, immerse yourself in the vibrant sounds of Rene Latin Soul as you sway and dance the night away. Indulge in delicious food and wine while soaking up the casual and welcoming atmosphere that makes our winery a beloved destination. Our bistro and tasting room will be open until 8:00 pm.
URL:https://ultimatevineyards.com/event/friday-night-live-music-22/
LOCATION:Ultimate Vineyards @ Maurice Carrie Winery\, 34225 Rancho California Rd\, Temecula\, CA\, 92591\, United States
CATEGORIES:Free,Live Music
ATTACH;FMTTYPE=image/png:https://ultimatevineyards.com/wp-content/uploads/2025/12/Friday-Night-Latin.png
END:VEVENT
BEGIN:VEVENT
DTSTART;VALUE=DATE:20260119
DTEND;VALUE=DATE:20260120
DTSTAMP:20260421T070407
CREATED:20260112T202657Z
LAST-MODIFIED:20260112T202657Z
UID:15104-1768780800-1768867199@ultimatevineyards.com
SUMMARY:Monday Special
DESCRIPTION:$7 glasses of wine on select bottles of red\, white\, & rose wine every Monday! \n 
URL:https://ultimatevineyards.com/event/monday-special-33/
LOCATION:Ultimate Vineyards @ Maurice Carrie Winery\, 34225 Rancho California Rd\, Temecula\, CA\, 92591\, United States
ATTACH;FMTTYPE=image/jpeg:https://ultimatevineyards.com/wp-content/uploads/2025/07/Monday-Special-Post-2.jpg
END:VEVENT
BEGIN:VEVENT
DTSTART;TZID=America/Los_Angeles:20260120T110000
DTEND;TZID=America/Los_Angeles:20260120T170000
DTSTAMP:20260421T070407
CREATED:20251208T232931Z
LAST-MODIFIED:20251216T222030Z
UID:14990-1768906800-1768928400@ultimatevineyards.com
SUMMARY:2-for-1 Tastings Tuesday
DESCRIPTION:Bring a friend and enjoy our 2-for-1 tastings every Tuesday
URL:https://ultimatevineyards.com/event/2-for-1-tastings-tuesday-24/
LOCATION:Ultimate Vineyards @ Maurice Carrie Winery\, 34225 Rancho California Rd\, Temecula\, CA\, 92591\, United States
CATEGORIES:Weekly Specials
ATTACH;FMTTYPE=image/png:https://ultimatevineyards.com/wp-content/uploads/2025/12/Tuesday-Special-Post-1.png
END:VEVENT
BEGIN:VEVENT
DTSTART;TZID=America/Los_Angeles:20260123T160000
DTEND;TZID=America/Los_Angeles:20260123T200000
DTSTAMP:20260421T070407
CREATED:20251208T232532Z
LAST-MODIFIED:20251215T224555Z
UID:14982-1769184000-1769198400@ultimatevineyards.com
SUMMARY:Friday Night Live Music
DESCRIPTION:Fridays from 4:00 to 8:00 pm\, immerse yourself in the vibrant sounds of Rene Latin Soul as you sway and dance the night away. Indulge in delicious food and wine while soaking up the casual and welcoming atmosphere that makes our winery a beloved destination. Our bistro and tasting room will be open until 8:00 pm.
URL:https://ultimatevineyards.com/event/friday-night-live-music-23/
LOCATION:Ultimate Vineyards @ Maurice Carrie Winery\, 34225 Rancho California Rd\, Temecula\, CA\, 92591\, United States
CATEGORIES:Free,Live Music
ATTACH;FMTTYPE=image/png:https://ultimatevineyards.com/wp-content/uploads/2025/12/Friday-Night-Latin.png
END:VEVENT
BEGIN:VEVENT
DTSTART;VALUE=DATE:20260126
DTEND;VALUE=DATE:20260127
DTSTAMP:20260421T070407
CREATED:20251226T185413Z
LAST-MODIFIED:20251226T185413Z
UID:15046-1769385600-1769471999@ultimatevineyards.com
SUMMARY:Monday Special
DESCRIPTION:$7 glasses of wine on select bottles of red\, white\, & rose wine every Monday! \n 
URL:https://ultimatevineyards.com/event/monday-special-31/
LOCATION:Ultimate Vineyards @ Maurice Carrie Winery\, 34225 Rancho California Rd\, Temecula\, CA\, 92591\, United States
ATTACH;FMTTYPE=image/jpeg:https://ultimatevineyards.com/wp-content/uploads/2025/07/Monday-Special-Post-2.jpg
END:VEVENT
BEGIN:VEVENT
DTSTART;TZID=America/Los_Angeles:20260127T110000
DTEND;TZID=America/Los_Angeles:20260127T170000
DTSTAMP:20260421T070407
CREATED:20251208T233221Z
LAST-MODIFIED:20251223T234927Z
UID:14992-1769511600-1769533200@ultimatevineyards.com
SUMMARY:2-for-1 Tastings Tuesday
DESCRIPTION:Bring a friend and enjoy our 2-for-1 tastings every Tuesday
URL:https://ultimatevineyards.com/event/2-for-1-tastings-tuesday-25/
LOCATION:Ultimate Vineyards @ Maurice Carrie Winery\, 34225 Rancho California Rd\, Temecula\, CA\, 92591\, United States
CATEGORIES:Weekly Specials
ATTACH;FMTTYPE=image/png:https://ultimatevineyards.com/wp-content/uploads/2025/12/Tuesday-Special-Post-1.png
END:VEVENT
BEGIN:VEVENT
DTSTART;TZID=America/Los_Angeles:20260130T160000
DTEND;TZID=America/Los_Angeles:20260130T200000
DTSTAMP:20260421T070407
CREATED:20251208T232705Z
LAST-MODIFIED:20251216T222747Z
UID:14986-1769788800-1769803200@ultimatevineyards.com
SUMMARY:Friday Night Live Music
DESCRIPTION:Fridays from 4:00 to 8:00 pm\, immerse yourself in the vibrant sounds of Rene Latin Soul as you sway and dance the night away. Indulge in delicious food and wine while soaking up the casual and welcoming atmosphere that makes our winery a beloved destination. Our bistro and tasting room will be open until 8:00 pm.
URL:https://ultimatevineyards.com/event/friday-night-live-music-24/
LOCATION:Ultimate Vineyards @ Maurice Carrie Winery\, 34225 Rancho California Rd\, Temecula\, CA\, 92591\, United States
CATEGORIES:Free,Live Music
ATTACH;FMTTYPE=image/png:https://ultimatevineyards.com/wp-content/uploads/2025/10/Friday-Night-Latin-1.png
END:VEVENT
END:VCALENDAR