BEGIN:VCALENDAR
VERSION:2.0
PRODID:-//Maurice Car’rie Vineyard &amp; Winery - ECPv6.15.20//NONSGML v1.0//EN
CALSCALE:GREGORIAN
METHOD:PUBLISH
X-WR-CALNAME:Maurice Car’rie Vineyard &amp; Winery
X-ORIGINAL-URL:https://ultimatevineyards.com
X-WR-CALDESC:Events for Maurice Car’rie Vineyard &amp; Winery
REFRESH-INTERVAL;VALUE=DURATION:PT1H
X-Robots-Tag:noindex
X-PUBLISHED-TTL:PT1H
BEGIN:VTIMEZONE
TZID:America/Los_Angeles
BEGIN:DAYLIGHT
TZOFFSETFROM:-0800
TZOFFSETTO:-0700
TZNAME:PDT
DTSTART:20250309T100000
END:DAYLIGHT
BEGIN:STANDARD
TZOFFSETFROM:-0700
TZOFFSETTO:-0800
TZNAME:PST
DTSTART:20251102T090000
END:STANDARD
BEGIN:DAYLIGHT
TZOFFSETFROM:-0800
TZOFFSETTO:-0700
TZNAME:PDT
DTSTART:20260308T100000
END:DAYLIGHT
BEGIN:STANDARD
TZOFFSETFROM:-0700
TZOFFSETTO:-0800
TZNAME:PST
DTSTART:20261101T090000
END:STANDARD
BEGIN:DAYLIGHT
TZOFFSETFROM:-0800
TZOFFSETTO:-0700
TZNAME:PDT
DTSTART:20270314T100000
END:DAYLIGHT
BEGIN:STANDARD
TZOFFSETFROM:-0700
TZOFFSETTO:-0800
TZNAME:PST
DTSTART:20271107T090000
END:STANDARD
END:VTIMEZONE
BEGIN:VEVENT
DTSTART;VALUE=DATE:20260202
DTEND;VALUE=DATE:20260203
DTSTAMP:20260421T025420
CREATED:20251212T235007Z
LAST-MODIFIED:20251226T185707Z
UID:15013-1769990400-1770076799@ultimatevineyards.com
SUMMARY:Monday Special
DESCRIPTION:$7 glasses of wine on select bottles of red\, white\, & rose wine every Monday! \n 
URL:https://ultimatevineyards.com/event/monday-special-29/
LOCATION:Ultimate Vineyards @ Maurice Carrie Winery\, 34225 Rancho California Rd\, Temecula\, CA\, 92591\, United States
ATTACH;FMTTYPE=image/jpeg:https://ultimatevineyards.com/wp-content/uploads/2025/07/Monday-Special-Post-2.jpg
END:VEVENT
BEGIN:VEVENT
DTSTART;TZID=America/Los_Angeles:20260203T110000
DTEND;TZID=America/Los_Angeles:20260203T170000
DTSTAMP:20260421T025420
CREATED:20251212T234701Z
LAST-MODIFIED:20251216T222140Z
UID:15011-1770116400-1770138000@ultimatevineyards.com
SUMMARY:2-for-1 Tastings Tuesday
DESCRIPTION:Bring a friend and enjoy our 2-for-1 tastings every Tuesday
URL:https://ultimatevineyards.com/event/2-for-1-tastings-tuesday-26/
LOCATION:Ultimate Vineyards @ Maurice Carrie Winery\, 34225 Rancho California Rd\, Temecula\, CA\, 92591\, United States
CATEGORIES:Weekly Specials
ATTACH;FMTTYPE=image/png:https://ultimatevineyards.com/wp-content/uploads/2025/12/Tuesday-Special-Post-1.png
END:VEVENT
BEGIN:VEVENT
DTSTART;TZID=America/Los_Angeles:20260206T160000
DTEND;TZID=America/Los_Angeles:20260206T200000
DTSTAMP:20260421T025420
CREATED:20260108T185821Z
LAST-MODIFIED:20260108T185821Z
UID:15091-1770393600-1770408000@ultimatevineyards.com
SUMMARY:Friday Night Live Music
DESCRIPTION:Fridays from 4:00 to 8:00 pm\, immerse yourself in the vibrant sounds of Rene Latin Soul as you sway and dance the night away. Indulge in delicious food and wine while soaking up the casual and welcoming atmosphere that makes our winery a beloved destination. Our bistro and tasting room will be open until 8:00 pm.
URL:https://ultimatevineyards.com/event/friday-night-live-music-26/
LOCATION:Ultimate Vineyards @ Maurice Carrie Winery\, 34225 Rancho California Rd\, Temecula\, CA\, 92591\, United States
CATEGORIES:Free,Live Music
ATTACH;FMTTYPE=image/png:https://ultimatevineyards.com/wp-content/uploads/2025/10/Friday-Night-Latin-1.png
END:VEVENT
BEGIN:VEVENT
DTSTART;VALUE=DATE:20260209
DTEND;VALUE=DATE:20260210
DTSTAMP:20260421T025420
CREATED:20251212T235520Z
LAST-MODIFIED:20251226T185605Z
UID:15017-1770595200-1770681599@ultimatevineyards.com
SUMMARY:Monday Special
DESCRIPTION:$7 glasses of wine on select bottles of red\, white\, & rose wine every Monday! \n 
URL:https://ultimatevineyards.com/event/monday-special-30/
LOCATION:Ultimate Vineyards @ Maurice Carrie Winery\, 34225 Rancho California Rd\, Temecula\, CA\, 92591\, United States
ATTACH;FMTTYPE=image/jpeg:https://ultimatevineyards.com/wp-content/uploads/2025/07/Monday-Special-Post-2.jpg
END:VEVENT
BEGIN:VEVENT
DTSTART;TZID=America/Los_Angeles:20260210T110000
DTEND;TZID=America/Los_Angeles:20260210T170000
DTSTAMP:20260421T025420
CREATED:20251212T235626Z
LAST-MODIFIED:20251216T220128Z
UID:15019-1770721200-1770742800@ultimatevineyards.com
SUMMARY:2-for-1 Tastings Tuesday
DESCRIPTION:Bring a friend and enjoy our 2-for-1 tastings every Tuesday
URL:https://ultimatevineyards.com/event/2-for-1-tastings-tuesday-27/
LOCATION:Ultimate Vineyards @ Maurice Carrie Winery\, 34225 Rancho California Rd\, Temecula\, CA\, 92591\, United States
CATEGORIES:Weekly Specials
ATTACH;FMTTYPE=image/png:https://ultimatevineyards.com/wp-content/uploads/2025/12/Tuesday-Special-Post-1.png
END:VEVENT
BEGIN:VEVENT
DTSTART;TZID=America/Los_Angeles:20260213T160000
DTEND;TZID=America/Los_Angeles:20260213T200000
DTSTAMP:20260421T025420
CREATED:20260108T185434Z
LAST-MODIFIED:20260108T185434Z
UID:15085-1770998400-1771012800@ultimatevineyards.com
SUMMARY:Friday Night Live Music
DESCRIPTION:Fridays from 4:00 to 8:00 pm\, immerse yourself in the vibrant sounds of Rene Latin Soul as you sway and dance the night away. Indulge in delicious food and wine while soaking up the casual and welcoming atmosphere that makes our winery a beloved destination. Our bistro and tasting room will be open until 8:00 pm.
URL:https://ultimatevineyards.com/event/friday-night-live-music-25/
LOCATION:Ultimate Vineyards @ Maurice Carrie Winery\, 34225 Rancho California Rd\, Temecula\, CA\, 92591\, United States
CATEGORIES:Free,Live Music
ATTACH;FMTTYPE=image/png:https://ultimatevineyards.com/wp-content/uploads/2025/10/Friday-Night-Latin-1.png
END:VEVENT
BEGIN:VEVENT
DTSTART;VALUE=DATE:20260216
DTEND;VALUE=DATE:20260217
DTSTAMP:20260421T025420
CREATED:20251226T232423Z
LAST-MODIFIED:20251226T232423Z
UID:15048-1771200000-1771286399@ultimatevineyards.com
SUMMARY:Monday Special
DESCRIPTION:$7 glasses of wine on select bottles of red\, white\, & rose wine every Monday! \n 
URL:https://ultimatevineyards.com/event/monday-special-32/
LOCATION:Ultimate Vineyards @ Maurice Carrie Winery\, 34225 Rancho California Rd\, Temecula\, CA\, 92591\, United States
ATTACH;FMTTYPE=image/jpeg:https://ultimatevineyards.com/wp-content/uploads/2025/07/Monday-Special-Post-2.jpg
END:VEVENT
BEGIN:VEVENT
DTSTART;TZID=America/Los_Angeles:20260217T110000
DTEND;TZID=America/Los_Angeles:20260217T170000
DTSTAMP:20260421T025420
CREATED:20251226T232639Z
LAST-MODIFIED:20251226T232639Z
UID:15050-1771326000-1771347600@ultimatevineyards.com
SUMMARY:2-for-1 Tastings Tuesday
DESCRIPTION:Bring a friend and enjoy our 2-for-1 tastings every Tuesday
URL:https://ultimatevineyards.com/event/2-for-1-tastings-tuesday-28/
LOCATION:Ultimate Vineyards @ Maurice Carrie Winery\, 34225 Rancho California Rd\, Temecula\, CA\, 92591\, United States
CATEGORIES:Weekly Specials
ATTACH;FMTTYPE=image/png:https://ultimatevineyards.com/wp-content/uploads/2025/12/Tuesday-Special-Post-1.png
END:VEVENT
BEGIN:VEVENT
DTSTART;TZID=America/Los_Angeles:20260220T160000
DTEND;TZID=America/Los_Angeles:20260220T200000
DTSTAMP:20260421T025420
CREATED:20260113T191214Z
LAST-MODIFIED:20260113T191214Z
UID:15112-1771603200-1771617600@ultimatevineyards.com
SUMMARY:Friday Night Live Music
DESCRIPTION:Fridays from 4:00 to 8:00 pm\, immerse yourself in the vibrant sounds of Rene Latin Soul as you sway and dance the night away. Indulge in delicious food and wine while soaking up the casual and welcoming atmosphere that makes our winery a beloved destination. Our bistro and tasting room will be open until 8:00 pm.
URL:https://ultimatevineyards.com/event/friday-night-live-music-27/
LOCATION:Ultimate Vineyards @ Maurice Carrie Winery\, 34225 Rancho California Rd\, Temecula\, CA\, 92591\, United States
CATEGORIES:Free,Live Music
ATTACH;FMTTYPE=image/png:https://ultimatevineyards.com/wp-content/uploads/2025/10/Friday-Night-Latin-1.png
END:VEVENT
BEGIN:VEVENT
DTSTART;VALUE=DATE:20260223
DTEND;VALUE=DATE:20260224
DTSTAMP:20260421T025420
CREATED:20260115T173839Z
LAST-MODIFIED:20260115T173839Z
UID:15124-1771804800-1771891199@ultimatevineyards.com
SUMMARY:Monday Special
DESCRIPTION:$7 glasses of wine on select bottles of red\, white\, & rose wine every Monday! \n 
URL:https://ultimatevineyards.com/event/monday-special-34/
LOCATION:Ultimate Vineyards @ Maurice Carrie Winery\, 34225 Rancho California Rd\, Temecula\, CA\, 92591\, United States
ATTACH;FMTTYPE=image/jpeg:https://ultimatevineyards.com/wp-content/uploads/2025/07/Monday-Special-Post-2.jpg
END:VEVENT
BEGIN:VEVENT
DTSTART;TZID=America/Los_Angeles:20260224T110000
DTEND;TZID=America/Los_Angeles:20260224T170000
DTSTAMP:20260421T025420
CREATED:20260115T174006Z
LAST-MODIFIED:20260115T174006Z
UID:15126-1771930800-1771952400@ultimatevineyards.com
SUMMARY:2-for-1 Tastings Tuesday
DESCRIPTION:Bring a friend and enjoy our 2-for-1 tastings every Tuesday
URL:https://ultimatevineyards.com/event/2-for-1-tastings-tuesday-29/
LOCATION:Ultimate Vineyards @ Maurice Carrie Winery\, 34225 Rancho California Rd\, Temecula\, CA\, 92591\, United States
CATEGORIES:Weekly Specials
ATTACH;FMTTYPE=image/png:https://ultimatevineyards.com/wp-content/uploads/2025/12/Tuesday-Special-Post-1.png
END:VEVENT
BEGIN:VEVENT
DTSTART;TZID=America/Los_Angeles:20260227T160000
DTEND;TZID=America/Los_Angeles:20260227T200000
DTSTAMP:20260421T025420
CREATED:20260115T174228Z
LAST-MODIFIED:20260115T174228Z
UID:15128-1772208000-1772222400@ultimatevineyards.com
SUMMARY:Friday Night Live Music
DESCRIPTION:Fridays from 4:00 to 8:00 pm\, immerse yourself in the vibrant sounds of Rene Latin Soul as you sway and dance the night away. Indulge in delicious food and wine while soaking up the casual and welcoming atmosphere that makes our winery a beloved destination. Our bistro and tasting room will be open until 8:00 pm.
URL:https://ultimatevineyards.com/event/friday-night-live-music-28/
LOCATION:Ultimate Vineyards @ Maurice Carrie Winery\, 34225 Rancho California Rd\, Temecula\, CA\, 92591\, United States
CATEGORIES:Free,Live Music
ATTACH;FMTTYPE=image/png:https://ultimatevineyards.com/wp-content/uploads/2025/10/Friday-Night-Latin-1.png
END:VEVENT
END:VCALENDAR