BEGIN:VCALENDAR
VERSION:2.0
PRODID:-//Maurice Car’rie Vineyard &amp; Winery - ECPv6.15.20//NONSGML v1.0//EN
CALSCALE:GREGORIAN
METHOD:PUBLISH
X-WR-CALNAME:Maurice Car’rie Vineyard &amp; Winery
X-ORIGINAL-URL:https://ultimatevineyards.com
X-WR-CALDESC:Events for Maurice Car’rie Vineyard &amp; Winery
REFRESH-INTERVAL;VALUE=DURATION:PT1H
X-Robots-Tag:noindex
X-PUBLISHED-TTL:PT1H
BEGIN:VTIMEZONE
TZID:America/Los_Angeles
BEGIN:DAYLIGHT
TZOFFSETFROM:-0800
TZOFFSETTO:-0700
TZNAME:PDT
DTSTART:20250309T100000
END:DAYLIGHT
BEGIN:STANDARD
TZOFFSETFROM:-0700
TZOFFSETTO:-0800
TZNAME:PST
DTSTART:20251102T090000
END:STANDARD
BEGIN:DAYLIGHT
TZOFFSETFROM:-0800
TZOFFSETTO:-0700
TZNAME:PDT
DTSTART:20260308T100000
END:DAYLIGHT
BEGIN:STANDARD
TZOFFSETFROM:-0700
TZOFFSETTO:-0800
TZNAME:PST
DTSTART:20261101T090000
END:STANDARD
BEGIN:DAYLIGHT
TZOFFSETFROM:-0800
TZOFFSETTO:-0700
TZNAME:PDT
DTSTART:20270314T100000
END:DAYLIGHT
BEGIN:STANDARD
TZOFFSETFROM:-0700
TZOFFSETTO:-0800
TZNAME:PST
DTSTART:20271107T090000
END:STANDARD
END:VTIMEZONE
BEGIN:VEVENT
DTSTART;TZID=America/Los_Angeles:20260103T133000
DTEND;TZID=America/Los_Angeles:20260103T173000
DTSTAMP:20260425T175625
CREATED:20251208T230145Z
LAST-MODIFIED:20251223T232940Z
UID:14965-1767447000-1767461400@ultimatevineyards.com
SUMMARY:JOHN DEMPS
DESCRIPTION:Live Music 1:30 – 5:30 pm \nSaturday\, January 3rd\, 2026 \nJohn Demps playing the very best in R&B\, Blues\, Hip Hop\, Dance\, Pop\, and Rock
URL:https://ultimatevineyards.com/event/john-demps/
LOCATION:Ultimate Vineyards @ Maurice Carrie Winery\, 34225 Rancho California Rd\, Temecula\, CA\, 92591\, United States
CATEGORIES:Live Music
ATTACH;FMTTYPE=image/png:https://ultimatevineyards.com/wp-content/uploads/2025/05/Your-paragraph-text-3.png
END:VEVENT
BEGIN:VEVENT
DTSTART;TZID=America/Los_Angeles:20260104T120000
DTEND;TZID=America/Los_Angeles:20260104T160000
DTSTAMP:20260425T175625
CREATED:20260104T200052Z
LAST-MODIFIED:20251230T190038Z
UID:14370-1767528000-1767542400@ultimatevineyards.com
SUMMARY:RENE LATIN SOUL
DESCRIPTION:Spice up your Sunday with Salsa\, Latin Jazz Instrumental\, Bachata\, Reggaeton\, Merengue\, Ballenato and more! \nSunday\, January 4th from 12 to 4 pm. \n 
URL:https://ultimatevineyards.com/event/rene-latin-soul-5/
LOCATION:Ultimate Vineyards @ Maurice Carrie Winery\, 34225 Rancho California Rd\, Temecula\, CA\, 92591\, United States
CATEGORIES:Free,Live Music
ATTACH;FMTTYPE=image/png:https://ultimatevineyards.com/wp-content/uploads/2025/06/RENE-LATIN-SOUL-5.png
END:VEVENT
BEGIN:VEVENT
DTSTART;TZID=America/Los_Angeles:20260117T133000
DTEND;TZID=America/Los_Angeles:20260117T173000
DTSTAMP:20260425T175625
CREATED:20251208T231425Z
LAST-MODIFIED:20251211T201213Z
UID:14973-1768656600-1768671000@ultimatevineyards.com
SUMMARY:DANIEL ALAN
DESCRIPTION:Saturday\, January 17\, 2026\, 1:30 to 5:30 pm \nJoin us for live country music on the patio! \n 
URL:https://ultimatevineyards.com/event/daniel-allan/
LOCATION:Ultimate Vineyards @ Maurice Carrie Winery\, 34225 Rancho California Rd\, Temecula\, CA\, 92591\, United States
CATEGORIES:Live Music
ATTACH;FMTTYPE=image/jpeg:https://ultimatevineyards.com/wp-content/uploads/2025/12/Rose-Line-Band-Instagram-Post-45.jpg
END:VEVENT
END:VCALENDAR